BEGIN:VCALENDAR
PRODID:NingEventWidget-v1
VERSION:2.0
METHOD:PUBLISH
BEGIN:VTIMEZONE
TZID:Pacific/Midway
X-LIC-LOCATION:Pacific/Midway
BEGIN:STANDARD
TZOFFSETFROM:-1100
TZOFFSETTO:-1100
TZNAME:SST
DTSTART:19700101T000000
END:STANDARD
END:VTIMEZONE
BEGIN:VEVENT
UID:5072275:Event:896083
DTSTAMP:20260425T114942Z
SUMMARY:Gulf Coast Mopar Mania 2015 -Fort Walton Beach, FL
DESCRIPTION:\nPresented by Lee Chrysler Dodge Jeep Fort Walton Beach &
  Gulf Coast Unaffiliates Mopar Club\nPre-registration will be $20 Day 
 of event will be $25\n\nFor more information visit https://www.southea
 stwheelsevents.com/events/gulf-coast-mopar-mania-2015-fort-walton-beac
 h-fl
DTSTART;TZID=Pacific/Midway:20150606T080000
DTEND;TZID=Pacific/Midway:20150606T140000
CATEGORIES:car-show, festival
LOCATION:Uptown Station
WEBSITE:http://uptownstation.com/event/gulf-coast-mopar-mania-2015/
URL:http://uptownstation.com/event/gulf-coast-mopar-mania-2015/
CONTACT:Howard 703-932-5203
ORGANIZER:Lee Chrysler Dodge Jeep
ATTACH;FMTTYPE="image/jpeg":http://storage.ning.com/topology/rest/1.0/
 file/get/967686096?profile=original
ATTENDEE;ROLE=REQ-PARTICIPANT;PARTSTAT=ACCEPTED;RSVP=TRUE;CN="Chuck Aa
 ron":https://www.southeastwheelsevents.com/profile/ChuckAaron
END:VEVENT
END:VCALENDAR
