BEGIN:VCALENDAR
PRODID:NingEventWidget-v1
VERSION:2.0
METHOD:PUBLISH
BEGIN:VTIMEZONE
TZID:Pacific/Midway
X-LIC-LOCATION:Pacific/Midway
BEGIN:STANDARD
TZOFFSETFROM:-1100
TZOFFSETTO:-1100
TZNAME:SST
DTSTART:19700101T000000
END:STANDARD
END:VTIMEZONE
BEGIN:VEVENT
UID:5072275:Event:203533
DTSTAMP:20260420T071014Z
SUMMARY:5th Annual Guysie Car Show -Alma, GA
DESCRIPTION:Over 28 Classes to choose from:\nAntique\nClassic Car Ori
 ginal\nClassic Car Custom\nClassic Truck Original\nClassic Truck Custo
 m\nClassic Muscle Original\nClassic Muscle Custom\nStreet Rod\n4-Wheel
  Drive\nHot Rod\nRat Rod\nMotorcycle Original\nMotorcycle Custom\nTrik
 e Original\nTrike Custom\nTractor\nRace Car/Truck\nSpecial Interest\nM
 ilitary\nCustom Golf Cart (no riding, show only)\nMid year (1976-1991)
  Car Original\nMid year (1976-1991) Car Custom\nMid year (1976-1991) T
 ruck Original\nMid year (1976-1991) Truck Custom\nNewbie (1992 & newer
 ) Car Original\nNewbie (1992 & newer) Car Custom\nNewbie (1992 & newer
 ) Truck Original\nNewbie (1992 & newer) Truck Custom\nMuddiest 4x4\n 
 \nNew for 2011 Kid's Division\nOpen to Children 10 and under\n$10 regi
 stration\nKids get to decorate their tricycle, bicycle or wagon for sh
 owThis year’s theme - “Fun in the Sun”\nAll kid entries will rec
 eive an award during the ceremony\nSpecial awards for Best Decorated T
 ricycle, Bicycle and Wagon\n \n Special Awards:\nBest of Show\nClub P
 articipation\nLongest Distance Traveled\nPeople’s Choice\nKid’s Ch
 oice\n \nAttendance for 2010122 Registered Vehicles\n \nCamping Ava
 ilable - $35.00 for the weekend - includes water and electric\n \nSho
 w Starts at 8 and awards at 3\n \nFor complete flyer got to www.faceb
 ook.com/profile.php?id=100002180094281\n \nor call Harley or Angela S
 pires @ 912-632-5569 - 912-218-0976 - 912-218-0956 \n\nFor more infor
 mation visit https://www.southeastwheelsevents.com/events/guysie-car-s
 how-alma-ga
DTSTART;TZID=Pacific/Midway:20120526T000000
DTEND;TZID=Pacific/Midway:20120526T235900
CATEGORIES:car, show
LOCATION:Guysie Community in Alma, Ga
WEBSITE:http://www.facebook.com/profile.php?id=100002180094281
URL:http://www.facebook.com/profile.php?id=100002180094281
CONTACT:9126325569
ORGANIZER:Harley and Angela Spires
ATTACH;FMTTYPE="image/jpeg":http://storage.ning.com/topology/rest/1.0/
 file/get/967588298?profile=original
ATTENDEE;ROLE=REQ-PARTICIPANT;PARTSTAT=ACCEPTED;RSVP=TRUE;CN="Angela V
  Spires":https://www.southeastwheelsevents.com/profile/AngelaVSpires
END:VEVENT
END:VCALENDAR
