BEGIN:VCALENDAR
PRODID:NingEventWidget-v1
VERSION:2.0
METHOD:PUBLISH
BEGIN:VTIMEZONE
TZID:Pacific/Midway
X-LIC-LOCATION:Pacific/Midway
BEGIN:STANDARD
TZOFFSETFROM:-1100
TZOFFSETTO:-1100
TZNAME:SST
DTSTART:19700101T000000
END:STANDARD
END:VTIMEZONE
BEGIN:VEVENT
UID:5072275:Event:482971
DTSTAMP:20260422T005446Z
SUMMARY:Gwinnett Beat the Heat Car & Bike Show -Duluth, GA
DESCRIPTION:Beat the HEAT, Inc. is a national non-profit organization 
 comprised of Police  Officers and Firefighters who conduct educationa
 l programs using marked  emergency vehicle drag cars to gain the inte
 rest of the public. Heat Members  develop programs and activities to 
 serve their individual communities using the  Goals of Beat the Heat,
  Inc. as a guide. GOALS of BEAT THE HEAT, INC.\n1.  To EDUCATE the yo
 ung people of our communities about the problems of illegal  drug and
  alcohol use and the horrors of impaired and distracted driving,\n 2.
   To ENCOURAGE young people to stay in school and be an achiever in l
 ife,\n 3.  To PROMOTE a better UNDERSTANDING between the Police and 
 the communities they  serve and,\n 4. To EDUCATE the general public 
 about the sport of drag racing,  and encourage everyone to race on th
 e drag strip NOT IN THE  STREET.\nThe Gwinnett Sheriff Office will Ho
 ld a Car & Bike Show  at the GWINNETT ARENA on July 15th 2012, From 1
 1am to 4pm. Lots of things going  on including a cone course, SWAT, K
 9 Demo's Dunk a COP and much  more.\nFind us on face book and also ch
 eck out our friends at www.mvperformance.com\nwww.gwinnettcenter.com\n
 Please contact  Cpl Ozaluk @ Theozman670@gmail.com for more info.\nTh
 ank you and stay  safe,\n Cpl Ozaluk  \n\nFor more information vis
 it https://www.southeastwheelsevents.com/events/gwinnett-beat-the-heat
 -car-bike-show
DTSTART;TZID=Pacific/Midway:20120715T110000
DTEND;TZID=Pacific/Midway:20120715T160000
CATEGORIES:car, "/", bike, show
LOCATION:The Gwinnett  Arena
WEBSITE:
URL:
CONTACT:770 630 2483
ORGANIZER;CN="chris ozaluk":https://www.southeastwheelsevents.com/prof
 ile/chrisozaluk
ATTACH;FMTTYPE="image/jpeg":http://storage.ning.com/topology/rest/1.0/
 file/get/967608396?profile=original
ATTENDEE;ROLE=REQ-PARTICIPANT;PARTSTAT=ACCEPTED;RSVP=TRUE;CN="Dave Wil
 liams":https://www.southeastwheelsevents.com/profile/DaveWilliams
ATTENDEE;ROLE=REQ-PARTICIPANT;PARTSTAT=ACCEPTED;RSVP=TRUE;CN="david ad
 erhold":https://www.southeastwheelsevents.com/profile/davidaderhold
ATTENDEE;ROLE=REQ-PARTICIPANT;PARTSTAT=ACCEPTED;RSVP=TRUE;CN="chris oz
 aluk":https://www.southeastwheelsevents.com/profile/chrisozaluk
ATTENDEE;ROLE=REQ-PARTICIPANT;PARTSTAT=TENTATIVE;RSVP=TRUE;CN="Randall
  Carmichael":https://www.southeastwheelsevents.com/profile/RandallCarm
 ichael
ATTENDEE;ROLE=REQ-PARTICIPANT;PARTSTAT=TENTATIVE;RSVP=TRUE;CN="Tommy M
 orris":https://www.southeastwheelsevents.com/profile/TommyMorris
END:VEVENT
END:VCALENDAR
