BEGIN:VCALENDAR
PRODID:NingEventWidget-v1
VERSION:2.0
METHOD:PUBLISH
BEGIN:VTIMEZONE
TZID:Pacific/Midway
X-LIC-LOCATION:Pacific/Midway
BEGIN:STANDARD
TZOFFSETFROM:-1100
TZOFFSETTO:-1100
TZNAME:SST
DTSTART:19700101T000000
END:STANDARD
END:VTIMEZONE
BEGIN:VEVENT
UID:5072275:Event:1088989
DTSTAMP:20260423T090011Z
SUMMARY:Gwinnett Meet -Norcross, GA
DESCRIPTION:\r\n\r\nFun Meet.   5900 Brookhollow Parkway, Norcross, G
 A  8pm-11pm $5 per person  Tonight will just be a our regular meet. 
  -We will have food vendors on site so come hungry.   ***With new sea
 son there are some new changes. We are not allowed to use inside bathr
 ooms anymore due to management complaining of people leaving them filt
 hy, damaging, and taking things from inside the building. Other than s
 taff, no one is not allowed inside the building. We will be renting Po
 rter Potty's and they will be placed outside. Some folks damaged and b
 roke venues supplies/equipment behind the building, and shrubbery in c
 ommon areas last year. There are cameras in places now. Anyone caught 
 damaging the property will be charged accordingly.  !!!!!!!!SAFETY FIR
 ST. THIS IS A NO NONSENSE EVENT. No immaturity is tolerated. NO BURNOU
 TS, SPEEDING, DRIFTING, CONSTANT REVVING, BACKFIRING, AND MUSIC TOO LO
 UD. We have to go by city ordinance. We don't enjoy kicking and bannin
 g folks off the property, but we will not let one or few bad apples ru
 in the event for everyone else. Lets keep up with positive vibe we hav
 e been showing for last two season. We represent the turner culture in
  Atlanta so lets set high standards. \n\nFor more information visit h
 ttps://www.southeastwheelsevents.com/events/gwinnett-meet-norcross-ga
DTSTART;TZID=Pacific/Midway:20180621T200000
DTEND;TZID=Pacific/Midway:20180621T230000
CATEGORIES:car, show, cruise, in, meet
LOCATION:Korean Community Cener
WEBSITE:https://www.facebook.com/events/145665199461922/
URL:https://www.facebook.com/events/145665199461922/
CONTACT:gwinnettmeet@gmail.com
ORGANIZER:Sunny
ATTACH;FMTTYPE="image/jpeg":http://storage.ning.com/topology/rest/1.0/
 file/get/967778837?profile=original
ATTENDEE;ROLE=REQ-PARTICIPANT;PARTSTAT=ACCEPTED;RSVP=TRUE;CN="Chuck Aa
 ron":https://www.southeastwheelsevents.com/profile/ChuckAaron886
END:VEVENT
END:VCALENDAR
