BEGIN:VCALENDAR
PRODID:NingEventWidget-v1
VERSION:2.0
METHOD:PUBLISH
BEGIN:VTIMEZONE
TZID:Pacific/Midway
X-LIC-LOCATION:Pacific/Midway
BEGIN:STANDARD
TZOFFSETFROM:-1100
TZOFFSETTO:-1100
TZNAME:SST
DTSTART:19700101T000000
END:STANDARD
END:VTIMEZONE
BEGIN:VEVENT
UID:5072275:Event:643936
DTSTAMP:20260420T024119Z
SUMMARY:Gwinnett Meet Thursdays Riverside Sonic -Lawrenceville, GA
DESCRIPTION:\n\nFor more information visit https://www.southeastwheels
 events.com/events/gwinnett-meet-thursdays-riverside-sonic-lawrencevill
 e-ga-1
DTSTART;TZID=Pacific/Midway:20130725T180000
DTEND;TZID=Pacific/Midway:20130725T190000
CATEGORIES:gathering, car-show
LOCATION:Sonic
WEBSITE:http://www.importatlanta.com/forums/car-pics/337650-article-gw
 innett-meet-thursday-%40-riverside-sonic-lawrenceville-4-18-13-a.html
URL:http://www.importatlanta.com/forums/car-pics/337650-article-gwinne
 tt-meet-thursday-%40-riverside-sonic-lawrenceville-4-18-13-a.html
CONTACT:770-883-0106
ORGANIZER:Sunny Malhotra
ATTACH;FMTTYPE="image/jpeg":http://storage.ning.com/topology/rest/1.0/
 file/get/967637889?profile=original
ATTENDEE;ROLE=REQ-PARTICIPANT;PARTSTAT=ACCEPTED;RSVP=TRUE;CN="Michael 
 Thies":https://www.southeastwheelsevents.com/profile/MichaelThies
ATTENDEE;ROLE=REQ-PARTICIPANT;PARTSTAT=ACCEPTED;RSVP=TRUE;CN="Joel Bis
 so":https://www.southeastwheelsevents.com/profile/JoelBisso
END:VEVENT
END:VCALENDAR
