BEGIN:VCALENDAR
PRODID:NingEventWidget-v1
VERSION:2.0
METHOD:PUBLISH
BEGIN:VTIMEZONE
TZID:Pacific/Midway
X-LIC-LOCATION:Pacific/Midway
BEGIN:STANDARD
TZOFFSETFROM:-1100
TZOFFSETTO:-1100
TZNAME:SST
DTSTART:19700101T000000
END:STANDARD
END:VTIMEZONE
BEGIN:VEVENT
UID:5072275:Event:700393
DTSTAMP:20260423T084454Z
SUMMARY:Gwinnett Meet Thursdays Wild Bills -Duluth, GA
DESCRIPTION:We have settled back at Wild Bill's! We have both front an
 d back parking lots! There will be more than enough room so bring your
  family and friends!!\nWhat: Weekly Gwinnett Meet When: Thursdays. 8
 :00pm-11:30PM Where: Wild Bills, 2075 Market Street, Duluth, GA (Back
   Parking Lot)\nThere is a $2 Cover Charge to pay for extra traffic 
 control and insurance for the Meet.  This has actually helped us grow
  in numbers as it is not a heavy hit and allows us to be more organiz
 ed.\nLET'S INVITE OUR FRIENDS WITH DIFFERENT CARS; HOT RODS, MUSCLE,
  EXOTICS, RATS, SPORTS AND BIKES!  WE ARE GETTING HUNDREDS OF CARS EA
 CH WEEK!\nGwinnett Thursday Meet Facebook: http://www.facebook.com/ho
 me.php?sk=group_198882573490350  www.SpeedandMischief.com Speed & Misc
 hief Facebook: [url]http://www.facebook.com/home.php?sk=group_1236970
 71015663&ap=1[/url]  Come early to score, good spots.   Disclaimer: 
 The meet is on a private property, no immaturity will be tolerated. I 
 welcome you, and I'll show you the exit if I have too. Bring BS/Drama 
 and I'll be more than happy to show you back seat of a Police Cruiser\
 n\n\nFor more information visit https://www.southeastwheelsevents.com/
 events/gwinnett-meet-thursdays-wild-bills-duluth-ga-4
DTSTART;TZID=Pacific/Midway:20131031T200000
DTEND;TZID=Pacific/Midway:20131031T233000
CATEGORIES:gathering, car-show
LOCATION:Wild Bills
WEBSITE:http://www.importatlanta.com/forums/car-pics/337650-article-gw
 innett-meet-thursday-%40-riverside-sonic-lawrenceville-4-18-13-a.html
URL:http://www.importatlanta.com/forums/car-pics/337650-article-gwinne
 tt-meet-thursday-%40-riverside-sonic-lawrenceville-4-18-13-a.html
CONTACT:770-883-0106
ORGANIZER:Sunny Malhotra
ATTACH;FMTTYPE="image/jpeg":http://storage.ning.com/topology/rest/1.0/
 file/get/967637889?profile=original
ATTENDEE;ROLE=REQ-PARTICIPANT;PARTSTAT=ACCEPTED;RSVP=TRUE;CN="Jack Tho
 mas":https://www.southeastwheelsevents.com/profile/JackThomas
END:VEVENT
END:VCALENDAR
