BEGIN:VCALENDAR
PRODID:NingEventWidget-v1
VERSION:2.0
METHOD:PUBLISH
BEGIN:VTIMEZONE
TZID:Pacific/Midway
X-LIC-LOCATION:Pacific/Midway
BEGIN:STANDARD
TZOFFSETFROM:-1100
TZOFFSETTO:-1100
TZNAME:SST
DTSTART:19700101T000000
END:STANDARD
END:VTIMEZONE
BEGIN:VEVENT
UID:5072275:Event:700387
DTSTAMP:20260423T053416Z
SUMMARY:Cruise in Thursdays Lattea -Duluth, GA
DESCRIPTION:We have a growing free gathering, cruise in each Thursday 
 and Saturday with Drop Gearz and No Love 4 Atlanta. Come on over and c
 elebrate our love of cars, bikes and gear heads!\nPost you photos here
  http://southeastwheelsevents.com/photo and add your links to our Fac
 ebook page\n\n\nFor more information visit https://www.southeastwheels
 events.com/events/gwinnett-meet-thursdays-wild-bills-duluth-ga
DTSTART;TZID=Pacific/Midway:20131128T200000
DTEND;TZID=Pacific/Midway:20131128T233000
CATEGORIES:gathering, car-cruise, in
LOCATION:Lattea behind the BP
WEBSITE:https://www.facebook.com/latteacafe
URL:https://www.facebook.com/latteacafe
CONTACT:770-883-0106
ORGANIZER:Drop Gearz, No Love 4 Atlanta
ATTACH;FMTTYPE="image/jpeg":http://storage.ning.com/topology/rest/1.0/
 file/get/967647224?profile=original
ATTENDEE;ROLE=REQ-PARTICIPANT;PARTSTAT=ACCEPTED;RSVP=TRUE;CN="Jack Tho
 mas":https://www.southeastwheelsevents.com/profile/JackThomas
END:VEVENT
END:VCALENDAR
