BEGIN:VCALENDAR
PRODID:NingEventWidget-v1
VERSION:2.0
METHOD:PUBLISH
BEGIN:VTIMEZONE
TZID:Pacific/Midway
X-LIC-LOCATION:Pacific/Midway
BEGIN:STANDARD
TZOFFSETFROM:-1100
TZOFFSETTO:-1100
TZNAME:SST
DTSTART:19700101T000000
END:STANDARD
END:VTIMEZONE
BEGIN:VEVENT
UID:5072275:Event:1025866
DTSTAMP:20260424T065236Z
SUMMARY:GWRRA FL1-G Deltona Chapter Meet
DESCRIPTION:GWRRA FL1-G Deltona Chapter meets the third Saturday of th
 e month at Blue Springs Cafe, 300 S Volusia Ave, in Orange City, FL. E
 at at 9:00 am, Meet at 10:00 am. Event end time may change.\n\nFor mor
 e information visit https://www.southeastwheelsevents.com/events/gwrra
 -fl1-g-deltona-chapter-meet
DTSTART;TZID=Pacific/Midway:20161217T090000
DTEND;TZID=Pacific/Midway:20161217T140000
CATEGORIES:motorcycles, "clubs/shows/cruises"
LOCATION:Blue Springs Cafe
WEBSITE:http://www.fl1g.org/Newsletters/2016%2002%20February%20Issue%2
 0WEB%20Printing.pdf
URL:http://www.fl1g.org/Newsletters/2016%2002%20February%20Issue%20WEB
 %20Printing.pdf
CONTACT:
ORGANIZER:GWRRA FL1-G Deltona
ATTACH;FMTTYPE="image/jpeg":http://storage.ning.com/topology/rest/1.0/
 file/get/967719223?profile=original
ATTENDEE;ROLE=REQ-PARTICIPANT;PARTSTAT=ACCEPTED;RSVP=TRUE;CN="Chris go
 sney":https://www.southeastwheelsevents.com/profile/Chrisgosney
END:VEVENT
END:VCALENDAR
