BEGIN:VCALENDAR
PRODID:NingEventWidget-v1
VERSION:2.0
METHOD:PUBLISH
BEGIN:VTIMEZONE
TZID:Pacific/Midway
X-LIC-LOCATION:Pacific/Midway
BEGIN:STANDARD
TZOFFSETFROM:-1100
TZOFFSETTO:-1100
TZNAME:SST
DTSTART:19700101T000000
END:STANDARD
END:VTIMEZONE
BEGIN:VEVENT
UID:5072275:Event:1024851
DTSTAMP:20260424T065213Z
SUMMARY:GWRRA FL1-O Chapter Meeting
DESCRIPTION:Gold Wing Road Riders Association FL1-O Chapter Meeting wi
 ll happen at Ryan's, 3000 S Ferdon Blvd, Crestview, FL. Meeting starts
  at 9.00am and ends by 10.00am.\n\nFor more information visit https://
 www.southeastwheelsevents.com/events/gwrra-fl1-o-chapter-meeting
DTSTART;TZID=Pacific/Midway:20161217T090000
DTEND;TZID=Pacific/Midway:20161217T100000
CATEGORIES:motorcycles, "clubs/shows/cruises"
LOCATION:Ryan's
WEBSITE:http://www.fl1o.gwrra-regiona.org/events.html
URL:http://www.fl1o.gwrra-regiona.org/events.html
CONTACT:
ORGANIZER:Gold Wing Road Riders Association - FL1-O
ATTACH;FMTTYPE="image/jpeg":
ATTENDEE;ROLE=REQ-PARTICIPANT;PARTSTAT=ACCEPTED;RSVP=TRUE;CN="Chris go
 sney":https://www.southeastwheelsevents.com/profile/Chrisgosney
END:VEVENT
END:VCALENDAR
