BEGIN:VCALENDAR
PRODID:NingEventWidget-v1
VERSION:2.0
METHOD:PUBLISH
BEGIN:VTIMEZONE
TZID:Pacific/Midway
X-LIC-LOCATION:Pacific/Midway
BEGIN:STANDARD
TZOFFSETFROM:-1100
TZOFFSETTO:-1100
TZNAME:SST
DTSTART:19700101T000000
END:STANDARD
END:VTIMEZONE
BEGIN:VEVENT
UID:5072275:Event:1025783
DTSTAMP:20260422T200624Z
SUMMARY:GWRRA - FL1-W Mystery Ride
DESCRIPTION:Gold Wing Road Riders Association FL1- W Chapter Mystery R
 ide will start at Mobil Station, 1501 Rock Springs Rd, Apopka, FL. Mee
 t at 9.00am. KSU at 9.00am and ride ends by 2.00pm.\n\nFor more inform
 ation visit https://www.southeastwheelsevents.com/events/gwrra-fl1-w-m
 ystery-ride
DTSTART;TZID=Pacific/Midway:20161219T090000
DTEND;TZID=Pacific/Midway:20161219T140000
CATEGORIES:motorcycles, "clubs/shows/cruises"
LOCATION:Mobil Station
WEBSITE:https://calendar.google.com/calendar/embed?src=fl1w.webmaster@
 gmail.com&ctz=America/New_York&gsessio
URL:https://calendar.google.com/calendar/embed?src=fl1w.webmaster@gmai
 l.com&ctz=America/New_York&gsessio
CONTACT:
ORGANIZER:Gold Wing Road Riders Association - FL1-W Apopka
ATTACH;FMTTYPE="image/jpeg":http://storage.ning.com/topology/rest/1.0/
 file/get/967721083?profile=original
ATTENDEE;ROLE=REQ-PARTICIPANT;PARTSTAT=ACCEPTED;RSVP=TRUE;CN="Chris go
 sney":https://www.southeastwheelsevents.com/profile/Chrisgosney
END:VEVENT
END:VCALENDAR
