BEGIN:VCALENDAR
PRODID:NingEventWidget-v1
VERSION:2.0
METHOD:PUBLISH
BEGIN:VTIMEZONE
TZID:Pacific/Midway
X-LIC-LOCATION:Pacific/Midway
BEGIN:STANDARD
TZOFFSETFROM:-1100
TZOFFSETTO:-1100
TZNAME:SST
DTSTART:19700101T000000
END:STANDARD
END:VTIMEZONE
BEGIN:VEVENT
UID:5072275:Event:1050052
DTSTAMP:20260422T085917Z
SUMMARY:GWRRA Georgia Wing Fling 2017
DESCRIPTION:Wingin' at the Races Games, Vendors, Food and Lots of Fun 
 GWRRA Member: $35.00 Non-GWRRA Member: $40.00 On-site Registration: Ad
 d $5 to each. A $15 day pass will be sold on-site and is good for the 
 Vendor Area, Hospitality Area and Indoor Games and only on the day of 
 purchase.\n\nFor more information visit https://www.southeastwheelseve
 nts.com/events/gwrra-georgia-wing-fling-2017
DTSTART;TZID=Pacific/Midway:20170622T000000
DTEND;TZID=Pacific/Midway:20170624T235900
CATEGORIES:bikes, event, show
LOCATION:Dalton Convention Center
WEBSITE:http://www.gwrra-ga.com/Rally.html
URL:http://www.gwrra-ga.com/Rally.html
CONTACT:
ORGANIZER:
ATTACH;FMTTYPE="image/jpeg":http://storage.ning.com/topology/rest/1.0/
 file/get/967748756?profile=original
ATTENDEE;ROLE=REQ-PARTICIPANT;PARTSTAT=ACCEPTED;RSVP=TRUE;CN="Christop
 her Gosney":https://www.southeastwheelsevents.com/profile/ChristopherG
 osney
END:VEVENT
END:VCALENDAR
