BEGIN:VCALENDAR
PRODID:NingEventWidget-v1
VERSION:2.0
METHOD:PUBLISH
BEGIN:VTIMEZONE
TZID:Pacific/Midway
X-LIC-LOCATION:Pacific/Midway
BEGIN:STANDARD
TZOFFSETFROM:-1100
TZOFFSETTO:-1100
TZNAME:SST
DTSTART:19700101T000000
END:STANDARD
END:VTIMEZONE
BEGIN:VEVENT
UID:5072275:Event:1271133
DTSTAMP:20260423T125451Z
SUMMARY:Hagerty Cars and Caffeine Car Show at the Barber SpeedTour
DESCRIPTION:\n Show It. Drive It. Live It. – Experience the Barber S
 peedTour!\nThis isn’t your average car show — it’s your chance t
 o be part of the motorsports action, show your car and take touring la
 ps at Barber Motorsports Park.\nShow your car. Drive the track. Live t
 he motorsports SpeedTour Experience.\n\n\n\n\nFor more information vis
 it https://www.southeastwheelsevents.com/events/hagerty-cars-and-caffe
 ine-car-show-at-the-barber-speedtour
DTSTART;TZID=Pacific/Midway:20251018T080000
DTEND;TZID=Pacific/Midway:20251019T170000
CATEGORIES:car, show, and, touring, laps
LOCATION:Barber Motorsports Park
WEBSITE:http://www.speedtour.net
URL:http://www.speedtour.net
CONTACT:
ORGANIZER:Donna Bastrzycki-SpeedTour
ATTACH;FMTTYPE="image/jpeg":
ATTENDEE;ROLE=REQ-PARTICIPANT;PARTSTAT=ACCEPTED;RSVP=TRUE;CN="Donna Ba
 strzycki":https://www.southeastwheelsevents.com/profile/DonnaBastrzyck
 i
END:VEVENT
END:VCALENDAR
