BEGIN:VCALENDAR
PRODID:NingEventWidget-v1
VERSION:2.0
METHOD:PUBLISH
BEGIN:VTIMEZONE
TZID:Pacific/Midway
X-LIC-LOCATION:Pacific/Midway
BEGIN:STANDARD
TZOFFSETFROM:-1100
TZOFFSETTO:-1100
TZNAME:SST
DTSTART:19700101T000000
END:STANDARD
END:VTIMEZONE
BEGIN:VEVENT
UID:5072275:Event:1270816
DTSTAMP:20260419T054740Z
SUMMARY:Hagerty Cars and Caffeine Car Show at the COTA SpeedTour
DESCRIPTION: Motorsports Enthusiasts Unite: Register today for the Ha
 gerty Cars & Caffeine Car Show – COTA SpeedTour 2025!\n Circuit of T
 he Americas (COTA), Austin, TX\n November 1–2, 2025 visits speedtour
 .net\n\nFor more information visit https://www.southeastwheelsevents.c
 om/events/hagerty-cars-and-caffeine-car-show-at-the-cota-speedtour
DTSTART;TZID=Pacific/Midway:20251101T080000
DTEND;TZID=Pacific/Midway:20251102T170000
CATEGORIES:car, show, with, touring, laps
LOCATION:Circuit of the Americas
WEBSITE:http://speedtour.net
URL:http://speedtour.net
CONTACT:
ORGANIZER:Donna Bastrzycki-SpeedTour
ATTACH;FMTTYPE="image/jpeg":
ATTENDEE;ROLE=REQ-PARTICIPANT;PARTSTAT=ACCEPTED;RSVP=TRUE;CN="Donna Ba
 strzycki":https://www.southeastwheelsevents.com/profile/DonnaBastrzyck
 i
END:VEVENT
END:VCALENDAR
