BEGIN:VCALENDAR
PRODID:NingEventWidget-v1
VERSION:2.0
METHOD:PUBLISH
BEGIN:VTIMEZONE
TZID:Pacific/Midway
X-LIC-LOCATION:Pacific/Midway
BEGIN:STANDARD
TZOFFSETFROM:-1100
TZOFFSETTO:-1100
TZNAME:SST
DTSTART:19700101T000000
END:STANDARD
END:VTIMEZONE
BEGIN:VEVENT
UID:5072275:Event:1266978
DTSTAMP:20260422T182330Z
SUMMARY:Hagerty Cars and Caffeine Car Show at the Mission Foods SpeedT
 our
DESCRIPTION:🏁 Register today for the 2025 Hagerty Cars and Caffeine
  Car Show at the Mission Foods Road Atlanta SpeedTour! 🏁\n\nGet rea
 dy for an unforgettable weekend filled with high-speed action, amazing
  cars, and fun for the whole family! Join us at Michelin Raceway Road 
 Atlanta in Braselton, GA for the Mission Foods Road Atlanta SpeedTour 
 on March 22-23, 2025.\n\nThis event will feature racers and cars from:
 \n    Trans Am\n    Sportscar Vintage Racing (SVRA)\n    Inte
 rnational GT (IGT) …and much more!\n\n🚗 Don't miss your chance to
  participate in The Hagerty Cars & Caffeine Car Show 🚗\n\n    Op
 en to all classic, vintage, exotic,  modern and collectible cars, plu
 s vintage motorcycles.\n    Car Show Registration: Only $45.00 and 
 includes:\n        2 Weekend Passes (Saturday & Sunday)\n   
      Touring on the famous Michelin Raceway Road Atlanta race trac
 k!\n        VIP Parking\n        Full access to the race
  car paddock\n\n🌟 Experience a world-class 2.54-mile, 12-turn road 
 circuit, complete with steep elevation changes and high-speed straight
 s that make Road Atlanta one of the most iconic race tracks in the wor
 ld!\n\nDon't miss out! Register today at speedtour.net\n\nFor more inf
 ormation visit https://www.southeastwheelsevents.com/events/hagerty-ca
 rs-and-caffeine-car-show-at-the-mission-foods-speedtour
DTSTART;TZID=Pacific/Midway:20250322T080000
DTEND;TZID=Pacific/Midway:20250323T170000
CATEGORIES:car, show
LOCATION:MIchelin Raceway Road Atlanta
WEBSITE:https://speedtour.net/
URL:https://speedtour.net/
CONTACT:
ORGANIZER;CN="Donna Bastrzycki":https://www.southeastwheelsevents.com/
 profile/DonnaBastrzycki
ATTACH;FMTTYPE="image/jpeg":
ATTENDEE;ROLE=REQ-PARTICIPANT;PARTSTAT=ACCEPTED;RSVP=TRUE;CN="Donna Ba
 strzycki":https://www.southeastwheelsevents.com/profile/DonnaBastrzyck
 i
END:VEVENT
END:VCALENDAR
