BEGIN:VCALENDAR
PRODID:NingEventWidget-v1
VERSION:2.0
METHOD:PUBLISH
BEGIN:VTIMEZONE
TZID:Pacific/Midway
X-LIC-LOCATION:Pacific/Midway
BEGIN:STANDARD
TZOFFSETFROM:-1100
TZOFFSETTO:-1100
TZNAME:SST
DTSTART:19700101T000000
END:STANDARD
END:VTIMEZONE
BEGIN:VEVENT
UID:5072275:Event:1265699
DTSTAMP:20260424T055736Z
SUMMARY:Halidom Eatery - Day of the Dead Car Show
DESCRIPTION:Join Halidom Eatery for a Dia de las Muertos all-day event
  on Saturday, November 2nd, with main activities between 12-7pm and th
 e car show featuring low riders from Krazy Vatos from 12-5pm. Other ac
 tivities include:\n\nSocial Me Out Market, 3-7 PM\nKid's Costume Conte
 st, 3 PM\nAdult's Catrina Contest, 4 PM\nBest Car Contest, 4 PM\n\nAls
 o all day, enjoy a bounce h for the kids, live Latin music, and an out
 door bar to enjoy the weather! This event is free to attend, so please
  join us! \n\nFor more information visit https://www.southeastwheelse
 vents.com/events/halidom-eatery-day-of-the-dead-car-show
DTSTART;TZID=Pacific/Midway:20241102T120000
DTEND;TZID=Pacific/Midway:20241102T170000
CATEGORIES:family, fun, "&amp", car, show
LOCATION:Halidom Eatery
WEBSITE:https://g.co/kgs/A4ZUQyi
URL:https://g.co/kgs/A4ZUQyi
CONTACT:770-743-7737
ORGANIZER:Halidom Eatery / Jarrett Kirby
ATTACH;FMTTYPE="image/jpeg":https://storage.ning.com/topology/rest/1.0
 /file/get/13086107876?profile=original
ATTENDEE;ROLE=REQ-PARTICIPANT;PARTSTAT=ACCEPTED;RSVP=TRUE;CN="Jarrett 
 Kirby":https://www.southeastwheelsevents.com/profile/JarrettKirby896
END:VEVENT
END:VCALENDAR
