BEGIN:VCALENDAR
PRODID:NingEventWidget-v1
VERSION:2.0
METHOD:PUBLISH
BEGIN:VTIMEZONE
TZID:Pacific/Midway
X-LIC-LOCATION:Pacific/Midway
BEGIN:STANDARD
TZOFFSETFROM:-1100
TZOFFSETTO:-1100
TZNAME:SST
DTSTART:19700101T000000
END:STANDARD
END:VTIMEZONE
BEGIN:VEVENT
UID:5072275:Event:1103082
DTSTAMP:20260421T034146Z
SUMMARY:Halloween Block Party - Acworth, Ga
DESCRIPTION:Halloween Block Party on Historic Main Street Downtown\n\n
 For more information visit https://www.southeastwheelsevents.com/event
 s/halloween-block-party-acworth-ga
DTSTART;TZID=Pacific/Midway:20181027T160000
DTEND;TZID=Pacific/Midway:20181027T210000
CATEGORIES:car, show, cruise-in
LOCATION:Historic Main,
WEBSITE:
URL:
CONTACT:(770) 974-1813
ORGANIZER:Dallas Godfrey
ATTACH;FMTTYPE="image/jpeg":http://storage.ning.com/topology/rest/1.0/
 file/get/967795374?profile=original
ATTENDEE;ROLE=REQ-PARTICIPANT;PARTSTAT=ACCEPTED;RSVP=TRUE;CN="Anthony 
 Hopkins":https://www.southeastwheelsevents.com/profile/AnthonyHopkins
END:VEVENT
END:VCALENDAR
