BEGIN:VCALENDAR
PRODID:NingEventWidget-v1
VERSION:2.0
METHOD:PUBLISH
BEGIN:VTIMEZONE
TZID:Pacific/Midway
X-LIC-LOCATION:Pacific/Midway
BEGIN:STANDARD
TZOFFSETFROM:-1100
TZOFFSETTO:-1100
TZNAME:SST
DTSTART:19700101T000000
END:STANDARD
END:VTIMEZONE
BEGIN:VEVENT
UID:5072275:Event:739241
DTSTAMP:20260423T110203Z
SUMMARY:Haralson County Veterans 18th Annual Car Show & BBQ Tallapoosa
 , Ga
DESCRIPTION:FREE Open Car, Truck & Motorcycle Show & Bar-B-Q.\nMusic- 
 Door Prizes - 50/50 - Peoples Choice Trophy\nNEW LOCATION    SAME G
 REAT SHOW  From Hwy 78 @ Shell Station Go Hwy 100 N (Robertson Ave) f
 ollow signs to Show @ Haralson Co Veterans Park. From north of town: H
 wy 120 @ Hwy100 S (Crossroads Furniture) follow signs to Show.\nShow &
  Vendor Info: Rick 770-301-1400  Sam 678-416-1401\n\nFor more informa
 tion visit https://www.southeastwheelsevents.com/events/haralson-count
 y-veterans-18th-annual-car-show-bbq-tallapoosa-ga
DTSTART;TZID=Pacific/Midway:20140531T090000
DTEND;TZID=Pacific/Midway:20140531T140000
CATEGORIES:vets, park, fund, raiser, -, donations, accepted, "&", "app
 reciated!"
LOCATION:Old Tallapoosa Elementary School
WEBSITE:http://haralsoncountyveteransassociation.com
URL:http://haralsoncountyveteransassociation.com
CONTACT:Rick 770-301-1400   Sam 678-416-1401
ORGANIZER:Haralson County Veterans
ATTACH;FMTTYPE="image/jpeg":http://storage.ning.com/topology/rest/1.0/
 file/get/967656764?profile=original
ATTENDEE;ROLE=REQ-PARTICIPANT;PARTSTAT=ACCEPTED;RSVP=TRUE;CN="Snitch A
 dams":https://www.southeastwheelsevents.com/profile/SnitchAdams
ATTENDEE;ROLE=REQ-PARTICIPANT;PARTSTAT=ACCEPTED;RSVP=TRUE;CN="Chuck Aa
 ron":https://www.southeastwheelsevents.com/profile/ChuckAaron
ATTENDEE;ROLE=REQ-PARTICIPANT;PARTSTAT=ACCEPTED;RSVP=TRUE;CN="Rick Sta
 fford":https://www.southeastwheelsevents.com/profile/RickStafford
END:VEVENT
END:VCALENDAR
