BEGIN:VCALENDAR
PRODID:NingEventWidget-v1
VERSION:2.0
METHOD:PUBLISH
BEGIN:VTIMEZONE
TZID:Pacific/Midway
X-LIC-LOCATION:Pacific/Midway
BEGIN:STANDARD
TZOFFSETFROM:-1100
TZOFFSETTO:-1100
TZNAME:SST
DTSTART:19700101T000000
END:STANDARD
END:VTIMEZONE
BEGIN:VEVENT
UID:5072275:Event:504046
DTSTAMP:20260423T070328Z
SUMMARY:Hardy Family Ford Show -Dallas, Ga.
DESCRIPTION:Hardy Family Ford is having a Mustang and Ford powered onl
 y show. \n\n\nFor more information visit https://www.southeastwheelse
 vents.com/events/hardy-family-ford-show-dallas-ga
DTSTART;TZID=Pacific/Midway:20150530T080000
DTEND;TZID=Pacific/Midway:20150530T160000
CATEGORIES:car, show
LOCATION:Hardy Family Ford
WEBSITE:http://www.garmc.net
URL:http://www.garmc.net
CONTACT:770-445-8891
ORGANIZER;CN="John Knox":https://www.southeastwheelsevents.com/profile
 /JohnKnox
ATTACH;FMTTYPE="image/jpeg":http://storage.ning.com/topology/rest/1.0/
 file/get/967615731?profile=original
ATTENDEE;ROLE=REQ-PARTICIPANT;PARTSTAT=ACCEPTED;RSVP=TRUE;CN="John Kno
 x":https://www.southeastwheelsevents.com/profile/JohnKnox
ATTENDEE;ROLE=REQ-PARTICIPANT;PARTSTAT=ACCEPTED;RSVP=TRUE;CN="Scott mu
 nczenski":https://www.southeastwheelsevents.com/profile/Scottmunczensk
 i
ATTENDEE;ROLE=REQ-PARTICIPANT;PARTSTAT=ACCEPTED;RSVP=TRUE;CN=Lance:htt
 ps://www.southeastwheelsevents.com/profile/Lance
ATTENDEE;ROLE=REQ-PARTICIPANT;PARTSTAT=ACCEPTED;RSVP=TRUE;CN="Matt Isb
 ell":https://www.southeastwheelsevents.com/profile/MattIsbell
ATTENDEE;ROLE=REQ-PARTICIPANT;PARTSTAT=ACCEPTED;RSVP=TRUE;CN="Mike Wat
 chko":https://www.southeastwheelsevents.com/profile/MikeWatchko
ATTENDEE;ROLE=REQ-PARTICIPANT;PARTSTAT=TENTATIVE;RSVP=TRUE;CN="JP Brad
 y":https://www.southeastwheelsevents.com/profile/jpbrady
END:VEVENT
END:VCALENDAR
