BEGIN:VCALENDAR
PRODID:NingEventWidget-v1
VERSION:2.0
METHOD:PUBLISH
BEGIN:VTIMEZONE
TZID:Pacific/Midway
X-LIC-LOCATION:Pacific/Midway
BEGIN:STANDARD
TZOFFSETFROM:-1100
TZOFFSETTO:-1100
TZNAME:SST
DTSTART:19700101T000000
END:STANDARD
END:VTIMEZONE
BEGIN:VEVENT
UID:5072275:Event:11248
DTSTAMP:20260420T145822Z
SUMMARY:Hardy's Cheverolet/Buick/GMC Car Show -Dallas, GA.
DESCRIPTION:Hardy's Cheverolet/Buick/GMC is having a Car Show at their
  Dallas, GA. dealership on April the 6th.  Starts at 11AM til 4PM. Co
 ntact Steve at (770) 445-9411 New Car Sales Manager: Thank you Randy K
 icklighter\n\n\nFor more information visit https://www.southeastwheels
 events.com/events/hardys-cheveroletbuickgmc-car
DTSTART;TZID=Pacific/Midway:20130406T110000
DTEND;TZID=Pacific/Midway:20130406T160000
CATEGORIES:car-show
LOCATION:Hardy's Cheverolet/Buick/GMC
WEBSITE:http://www.hardyautomotive.com
URL:http://www.hardyautomotive.com
CONTACT:770-445-9411
ORGANIZER:Hardy's Cheverolet/Buick/GMC
ATTACH;FMTTYPE="image/jpeg":http://storage.ning.com/topology/rest/1.0/
 file/get/967572995?profile=original
ATTENDEE;ROLE=REQ-PARTICIPANT;PARTSTAT=ACCEPTED;RSVP=TRUE;CN="Michael 
 Ruffalo":https://www.southeastwheelsevents.com/profile/MichaelRuffalo
ATTENDEE;ROLE=REQ-PARTICIPANT;PARTSTAT=ACCEPTED;RSVP=TRUE;CN="Michael 
 Thies":https://www.southeastwheelsevents.com/profile/MichaelThies
ATTENDEE;ROLE=REQ-PARTICIPANT;PARTSTAT=ACCEPTED;RSVP=TRUE;CN="John H. 
 Price":https://www.southeastwheelsevents.com/profile/JohnHPrice
END:VEVENT
END:VCALENDAR
