BEGIN:VCALENDAR
PRODID:NingEventWidget-v1
VERSION:2.0
METHOD:PUBLISH
BEGIN:VTIMEZONE
TZID:Pacific/Midway
X-LIC-LOCATION:Pacific/Midway
BEGIN:STANDARD
TZOFFSETFROM:-1100
TZOFFSETTO:-1100
TZNAME:SST
DTSTART:19700101T000000
END:STANDARD
END:VTIMEZONE
BEGIN:VEVENT
UID:5072275:Event:406925
DTSTAMP:20260422T093919Z
SUMMARY:Hartselle Depot Days Car, Truck, and Motorcycle Show -Hartsell
 e, AL
DESCRIPTION:35th Annual Depot Days Festival â€“ We will start the day 
 withÂ the Hartselle KiwanisÂ Club 2nd annual Hartselle Half Marathon.Â
   As always you will find the Adult Art Show, Childrenâ€™s Art Show, C
 rafts, Tractor & Gasoline Engine Show, Live Entertainment, Car, Truck 
 & Bike Show, Childrenâ€™s Area, Food and so much more!Â  Admission is 
 FREE.\r\n\r\nÂ \r\nAdditional information contact:\r\nÂ Hartselle Area
  Chamber of Commerce\r\n(256)773-4370\r\nor\r\nPaul Casto, Car Show Ch
 air\r\n(256)303-4881\n\nFor more information visit https://www.southea
 stwheelsevents.com/events/hartselle-depot-days-21st-car-truck-and-moto
 rcycle-show
DTSTART;TZID=Pacific/Midway:20220917T080000
DTEND;TZID=Pacific/Midway:20220917T150000
CATEGORIES:car, truck, motorcycle, festival
LOCATION:First United Methodist Church Parking Lot
WEBSITE:http://www.hartsellechamber.com
URL:http://www.hartsellechamber.com
CONTACT:256-773-4370, 800-0692
ORGANIZER;CN="Hartselle Chamber of Commerce":https://www.southeastwhee
 lsevents.com/profile/HartselleChamberofCommerce
ATTACH;FMTTYPE="image/jpeg":http://storage.ning.com/topology/rest/1.0/
 file/get/967602131?profile=original
ATTENDEE;ROLE=REQ-PARTICIPANT;PARTSTAT=ACCEPTED;RSVP=TRUE;CN="Chuck Aa
 ron":https://www.southeastwheelsevents.com/profile/ChuckAaron886
ATTENDEE;ROLE=REQ-PARTICIPANT;PARTSTAT=ACCEPTED;RSVP=TRUE;CN="Hartsell
 e Chamber of Commerce":https://www.southeastwheelsevents.com/profile/H
 artselleChamberofCommerce
ATTENDEE;ROLE=REQ-PARTICIPANT;PARTSTAT=ACCEPTED;RSVP=TRUE;CN="Chuck Aa
 ron":https://www.southeastwheelsevents.com/profile/ChuckAaron
END:VEVENT
END:VCALENDAR
