BEGIN:VCALENDAR
PRODID:NingEventWidget-v1
VERSION:2.0
METHOD:PUBLISH
BEGIN:VTIMEZONE
TZID:Pacific/Midway
X-LIC-LOCATION:Pacific/Midway
BEGIN:STANDARD
TZOFFSETFROM:-1100
TZOFFSETTO:-1100
TZNAME:SST
DTSTART:19700101T000000
END:STANDARD
END:VTIMEZONE
BEGIN:VEVENT
UID:5072275:Event:208942
DTSTAMP:20260422T032712Z
SUMMARY:Hartwell Marina Car and Antique Boat Show -Hartwell, GA
DESCRIPTION:An open car show at Lake Hartwell Marina along with the An
 tique Boat Show. Popular Choice Awards, Door Prizes, 50/50 Raffle. Lim
 ited to the first 50 cars, $10 registeration fee. Go to NorthGeorgiaMo
 parClub.comfor more info.\n\nFor more information visit https://www.so
 utheastwheelsevents.com/events/hartwell-marina-car-and
DTSTART;TZID=Pacific/Midway:20110416T100000
DTEND;TZID=Pacific/Midway:20110416T160000
CATEGORIES:classic, car, hot, rod, and, antique, boat, show
LOCATION:Hartwell Marina
WEBSITE:
URL:
CONTACT:
ORGANIZER;CN="Rick Ellis":https://www.southeastwheelsevents.com/profil
 e/RickEllis
ATTACH;FMTTYPE="image/jpeg":http://storage.ning.com/topology/rest/1.0/
 file/get/967588776?profile=original
ATTENDEE;ROLE=REQ-PARTICIPANT;PARTSTAT=ACCEPTED;RSVP=TRUE;CN="Rick Ell
 is":https://www.southeastwheelsevents.com/profile/RickEllis
END:VEVENT
END:VCALENDAR
