BEGIN:VCALENDAR
PRODID:NingEventWidget-v1
VERSION:2.0
METHOD:PUBLISH
BEGIN:VTIMEZONE
TZID:Pacific/Midway
X-LIC-LOCATION:Pacific/Midway
BEGIN:STANDARD
TZOFFSETFROM:-1100
TZOFFSETTO:-1100
TZNAME:SST
DTSTART:19700101T000000
END:STANDARD
END:VTIMEZONE
BEGIN:VEVENT
UID:5072275:Event:1109215
DTSTAMP:20260421T035105Z
SUMMARY:Harvest Festival Car Show - Brewton, Al
DESCRIPTION:Harvest Festival Car Show at LaRae, 464 Hwy 41 South\n\nFo
 r more information visit https://www.southeastwheelsevents.com/events/
 harvest-festival-car-show-brewton-al
DTSTART;TZID=Pacific/Midway:20181027T080000
DTEND;TZID=Pacific/Midway:20181027T140000
CATEGORIES:car, show, cruise, in
LOCATION:LaRae,
WEBSITE:https://www.google.co.in/maps?q=464+Hwy+41+South,+Brewton,+Al&
 amp;um=1&amp;ie=UTF-8&amp;sa=X&amp;ved=0ahUKEwjPvZyZwoneAhXEYo8KHZ95Ba
 EQ_AUIDigB
URL:https://www.google.co.in/maps?q=464+Hwy+41+South,+Brewton,+Al&amp;
 um=1&amp;ie=UTF-8&amp;sa=X&amp;ved=0ahUKEwjPvZyZwoneAhXEYo8KHZ95BaEQ_A
 UIDigB
CONTACT:(251) 867-4781
ORGANIZER:Glen Freeman
ATTACH;FMTTYPE="image/jpeg":http://storage.ning.com/topology/rest/1.0/
 file/get/967802806?profile=original
ATTENDEE;ROLE=REQ-PARTICIPANT;PARTSTAT=ACCEPTED;RSVP=TRUE;CN="Anthony 
 Hopkins":https://www.southeastwheelsevents.com/profile/AnthonyHopkins
END:VEVENT
END:VCALENDAR
