BEGIN:VCALENDAR
PRODID:NingEventWidget-v1
VERSION:2.0
METHOD:PUBLISH
BEGIN:VTIMEZONE
TZID:Pacific/Midway
X-LIC-LOCATION:Pacific/Midway
BEGIN:STANDARD
TZOFFSETFROM:-1100
TZOFFSETTO:-1100
TZNAME:SST
DTSTART:19700101T000000
END:STANDARD
END:VTIMEZONE
BEGIN:VEVENT
UID:5072275:Event:190373
DTSTAMP:20260422T025230Z
SUMMARY:HAWG HALTERS SPRING BLING - Dawsonville, GA
DESCRIPTION:Live Music, ‘Ride In’ Bike Show, Crazy Games with Paul
 ie, Vendors and more!!!\n\nFor more information visit https://www.sout
 heastwheelsevents.com/events/hawg-halters-spring-bling
DTSTART;TZID=Pacific/Midway:20110416T000000
DTEND;TZID=Pacific/Midway:20110416T235900
CATEGORIES:bike, show
LOCATION:Hawg Halters
WEBSITE:http://www.hawghalters.com
URL:http://www.hawghalters.com
CONTACT:
ORGANIZER;CN="Garage71 and Grease Inc.":https://www.southeastwheelseve
 nts.com/profile/Garage71
ATTACH;FMTTYPE="image/jpeg":http://storage.ning.com/topology/rest/1.0/
 file/get/967588828?profile=original
ATTENDEE;ROLE=REQ-PARTICIPANT;PARTSTAT=ACCEPTED;RSVP=TRUE;CN="Garage71
  and Grease Inc.":https://www.southeastwheelsevents.com/profile/Garage
 71
END:VEVENT
END:VCALENDAR
