BEGIN:VCALENDAR
PRODID:NingEventWidget-v1
VERSION:2.0
METHOD:PUBLISH
BEGIN:VTIMEZONE
TZID:Pacific/Midway
X-LIC-LOCATION:Pacific/Midway
BEGIN:STANDARD
TZOFFSETFROM:-1100
TZOFFSETTO:-1100
TZNAME:SST
DTSTART:19700101T000000
END:STANDARD
END:VTIMEZONE
BEGIN:VEVENT
UID:5072275:Event:16788
DTSTAMP:20260423T003433Z
SUMMARY:Heads Up Grudge Racing -Jupiter, FL
DESCRIPTION:\nBe sure to come out to PBIR today for the\nKwiwk Rick Ol
 d School Outlaws! Spectators are $15, Children 12 and\nUnder are FREE!
 , and all racers.. tech cards are $30. Gates open at 2, races start at
  4. Weather is going to be PERFECT!!! See you at the\ntrack! \n\" targ
 et=\"_blank\">www.kwiwkrickracing.com\n\nFor more information visit ht
 tps://www.southeastwheelsevents.com/events/heads-up-grudge-racing-jupi
 ter
DTSTART;TZID=Pacific/Midway:20100417T140000
DTEND;TZID=Pacific/Midway:20100417T230000
CATEGORIES:drag-races
LOCATION:Palm Beach International Raceway
WEBSITE:http://www.kwiwkrickracing.com/
URL:http://www.kwiwkrickracing.com/
CONTACT:
ORGANIZER:Kwik Rick
ATTACH;FMTTYPE="image/jpeg":http://storage.ning.com/topology/rest/1.0/
 file/get/967576026?profile=original
END:VEVENT
END:VCALENDAR
