BEGIN:VCALENDAR
PRODID:NingEventWidget-v1
VERSION:2.0
METHOD:PUBLISH
BEGIN:VTIMEZONE
TZID:Pacific/Midway
X-LIC-LOCATION:Pacific/Midway
BEGIN:STANDARD
TZOFFSETFROM:-1100
TZOFFSETTO:-1100
TZNAME:SST
DTSTART:19700101T000000
END:STANDARD
END:VTIMEZONE
BEGIN:VEVENT
UID:5072275:Event:1101849
DTSTAMP:20260420T095212Z
SUMMARY:Healing Paws for Warriors - Ft. Walton Beach, Fl
DESCRIPTION:Healing Paws for warrior at Uptown Station, 99 Elgin Parkw
 ay.\n\nFor more information visit https://www.southeastwheelsevents.co
 m/events/healing-paws-for-warriors-ft-walton-beach-fl
DTSTART;TZID=Pacific/Midway:20180922T080000
DTEND;TZID=Pacific/Midway:20180922T150000
CATEGORIES:car, show, cruise, in
LOCATION:Uptown Station,
WEBSITE:http://healingpawsforwarriors.org
URL:http://healingpawsforwarriors.org
CONTACT:850-333-1736
ORGANIZER:
ATTACH;FMTTYPE="image/jpeg":http://storage.ning.com/topology/rest/1.0/
 file/get/967795395?profile=original
ATTENDEE;ROLE=REQ-PARTICIPANT;PARTSTAT=ACCEPTED;RSVP=TRUE;CN="Anthony 
 Hopkins":https://www.southeastwheelsevents.com/profile/AnthonyHopkins
END:VEVENT
END:VCALENDAR
