BEGIN:VCALENDAR
PRODID:NingEventWidget-v1
VERSION:2.0
METHOD:PUBLISH
BEGIN:VTIMEZONE
TZID:Pacific/Midway
X-LIC-LOCATION:Pacific/Midway
BEGIN:STANDARD
TZOFFSETFROM:-1100
TZOFFSETTO:-1100
TZNAME:SST
DTSTART:19700101T000000
END:STANDARD
END:VTIMEZONE
BEGIN:VEVENT
UID:5072275:Event:1030402
DTSTAMP:20260420T145247Z
SUMMARY:Heart of Georgia Corvairs Monthly Meeting
DESCRIPTION:Heart of Georgia Corvairs meeting starts around 12:30pm bu
 t come early to load up a plate and share some fellowship before we ge
 t down to business.\n\nFor more information visit https://www.southeas
 twheelsevents.com/events/heart-of-georgia-corvairs-monthly-meeting
DTSTART;TZID=Pacific/Midway:20170211T123000
DTEND;TZID=Pacific/Midway:20170211T140000
CATEGORIES:cars, "clubs/shows/cruises"
LOCATION:Ole Times Country Buffet
WEBSITE:http://www.georgiacorvair.com/calendar-1.html
URL:http://www.georgiacorvair.com/calendar-1.html
CONTACT:
ORGANIZER:Heart of Georgia Corvairs
ATTACH;FMTTYPE="image/jpeg":
ATTENDEE;ROLE=REQ-PARTICIPANT;PARTSTAT=ACCEPTED;RSVP=TRUE;CN="Christop
 her Gosney":https://www.southeastwheelsevents.com/profile/ChristopherG
 osney
END:VEVENT
END:VCALENDAR
