BEGIN:VCALENDAR
PRODID:NingEventWidget-v1
VERSION:2.0
METHOD:PUBLISH
BEGIN:VTIMEZONE
TZID:Pacific/Midway
X-LIC-LOCATION:Pacific/Midway
BEGIN:STANDARD
TZOFFSETFROM:-1100
TZOFFSETTO:-1100
TZNAME:SST
DTSTART:19700101T000000
END:STANDARD
END:VTIMEZONE
BEGIN:VEVENT
UID:5072275:Event:1268169
DTSTAMP:20260421T212554Z
SUMMARY:Heartis Senior Living Car Show - Cruising Into A Cure
DESCRIPTION:Second Annual Car Show to honor Jimmy Harris and Frank Haw
 kins.\n\nThis is an Alzheimer's Benefit Car Show\n\nFor more informati
 on visit https://www.southeastwheelsevents.com/events/heartis-senior-l
 iving-car-show-cruising-into-a-cure-1
DTSTART;TZID=Pacific/Midway:20250426T090000
DTEND;TZID=Pacific/Midway:20250426T120000
CATEGORIES:fundraising, car, show
LOCATION:Heartis Fayetteville Senior Living
WEBSITE:
URL:
CONTACT:
ORGANIZER;CN="Dan Harmon":https://www.southeastwheelsevents.com/profil
 e/DanHarmon
ATTACH;FMTTYPE="image/jpeg":https://storage.ning.com/topology/rest/1.0
 /file/get/13538550054?profile=original
ATTENDEE;ROLE=REQ-PARTICIPANT;PARTSTAT=ACCEPTED;RSVP=TRUE;CN="Dan Harm
 on":https://www.southeastwheelsevents.com/profile/DanHarmon
END:VEVENT
END:VCALENDAR
