BEGIN:VCALENDAR
PRODID:NingEventWidget-v1
VERSION:2.0
METHOD:PUBLISH
BEGIN:VTIMEZONE
TZID:Pacific/Midway
X-LIC-LOCATION:Pacific/Midway
BEGIN:STANDARD
TZOFFSETFROM:-1100
TZOFFSETTO:-1100
TZNAME:SST
DTSTART:19700101T000000
END:STANDARD
END:VTIMEZONE
BEGIN:VEVENT
UID:5072275:Event:1258248
DTSTAMP:20260423T111840Z
SUMMARY:Heartis Senior Living Car Show - Cruising Into A Cure -Fayette
 ville, GA
DESCRIPTION:Car Show to honor Jimmy Harris and Frank Hawkins.\n\nFor m
 ore information visit https://www.southeastwheelsevents.com/events/hea
 rtis-senior-living-car-show-cruising-into-a-cure
DTSTART;TZID=Pacific/Midway:20240713T090000
DTEND;TZID=Pacific/Midway:20240713T120000
CATEGORIES:car, show
LOCATION:Heartis Senior Living-Fayetteville
WEBSITE:
URL:
CONTACT:
ORGANIZER;CN="Dan Harmon":https://www.southeastwheelsevents.com/profil
 e/DanHarmon
ATTACH;FMTTYPE="image/jpeg":https://storage.ning.com/topology/rest/1.0
 /file/get/12702072461?profile=original
ATTENDEE;ROLE=REQ-PARTICIPANT;PARTSTAT=ACCEPTED;RSVP=TRUE;CN="Dan Harm
 on":https://www.southeastwheelsevents.com/profile/DanHarmon
ATTENDEE;ROLE=REQ-PARTICIPANT;PARTSTAT=ACCEPTED;RSVP=TRUE;CN="Michael 
 Thies":https://www.southeastwheelsevents.com/profile/MichaelThies
END:VEVENT
END:VCALENDAR
