BEGIN:VCALENDAR
PRODID:NingEventWidget-v1
VERSION:2.0
METHOD:PUBLISH
BEGIN:VTIMEZONE
TZID:Pacific/Midway
X-LIC-LOCATION:Pacific/Midway
BEGIN:STANDARD
TZOFFSETFROM:-1100
TZOFFSETTO:-1100
TZNAME:SST
DTSTART:19700101T000000
END:STANDARD
END:VTIMEZONE
BEGIN:VEVENT
UID:5072275:Event:834825
DTSTAMP:20260424T032927Z
SUMMARY:Heartland Cruisers Run to the Mill -McCalla, AL
DESCRIPTION:Run To The Mill open Car Show : this is open to anything, 
 jeeps, buggies, cars trucks vintage and new. Heartland Cruisers Run to
  the Mill at Tannehill Open car show - rain or shine Tannehill State P
 ark, Mccalla, AL  Benefiting Kid One Transport AWARD classes: Origina
 l, Street Rod, Custom, Modified, Motorcycle, and Under Construction...
 ..Also there will be door prizes, dash plaques, goody bags, for all re
 gistered entrants. There will be a 350 engine giveaway $10.00 per tick
 et(i have tickets), also there will be a car corral; spaces available-
 $10.00 per vehical, also 20' x 20' swap meet spaces available for $25.
 00 each. Registration at show site from 8am - 12pm, Registration fee f
 or pre-registration is $15.00, or day of show registration is $20.00. 
 Entrance to the park fee $3.00 for adults, $2.00 for seniors, $1.00 ag
 es 6-11, free 5 and under. For more info please contact Heartland Crui
 sers p.o. Box 235, Dolomite, AL 35061.....Call (205) 563-2140, also we
  are on facebook at: Heartland Cruisers Car Club \n\n\nFor more infor
 mation visit https://www.southeastwheelsevents.com/events/heartland-cr
 uisers-run-to-the-mill-mccalla-al
DTSTART;TZID=Pacific/Midway:20140927T080000
DTEND;TZID=Pacific/Midway:20140927T160000
CATEGORIES:car-show
LOCATION:Tannehill State Park
WEBSITE:https://www.facebook.com/pages/Heartland-Cruisers-Car-Club/166
 965939993611
URL:https://www.facebook.com/pages/Heartland-Cruisers-Car-Club/1669659
 39993611
CONTACT:(205) 563-2140
ORGANIZER:Heartland Cruisers Car Club
ATTACH;FMTTYPE="image/jpeg":http://storage.ning.com/topology/rest/1.0/
 file/get/967670972?profile=original
ATTENDEE;ROLE=REQ-PARTICIPANT;PARTSTAT=ACCEPTED;RSVP=TRUE;CN="Chuck Aa
 ron":https://www.southeastwheelsevents.com/profile/ChuckAaron
END:VEVENT
END:VCALENDAR
