BEGIN:VCALENDAR
PRODID:NingEventWidget-v1
VERSION:2.0
METHOD:PUBLISH
BEGIN:VTIMEZONE
TZID:Pacific/Midway
X-LIC-LOCATION:Pacific/Midway
BEGIN:STANDARD
TZOFFSETFROM:-1100
TZOFFSETTO:-1100
TZNAME:SST
DTSTART:19700101T000000
END:STANDARD
END:VTIMEZONE
BEGIN:VEVENT
UID:5072275:Event:1257767
DTSTAMP:20260420T083915Z
SUMMARY:Helen Import Day 2024 Pre-Meet -Helen, GA
DESCRIPTION:Helen Import Day is hosting its annual event in beautiful 
 Helen, Ga  We have secured over 20 acres of land for the event. We wo
 uld like to welcome everyone to come out and enjoy the event. - Genera
 l Parking will be $10 per car helenimportday.ticketleap.com/helen-impo
 rt-day-2017-payment/ - VIP Parking information is now available - No g
 rills, glass bottles, pets, burn outs, or revving - Vendor Inquiries m
 ust be emailed to helenimportday@gmail.com\r\nOne day in 2014, a group
  of car friends decided to go up to Helen, Ga, to check out the scener
 y. After seeing the sights, eating great food, and doing research to s
 et up an event in the town, they headed home. On the way, Helen Import
  Day was created.\r\nThey set the date for August 9th, giving them 28 
 days to promote and set up the event. They got more friends together, 
 took their cars on the mountain roads and arrived at the beautiful Alp
 ine Village of Helen. The morning of the event, they knew the parking 
 lot of the Helendorf Inn was too small. With many supporters and Helen
 ’s authorities on hand, the event quickly came together on Main Stre
 et. It was a great turn out and the group of friends decided to do it 
 again\r\n\n\nFor more information visit https://www.southeastwheelseve
 nts.com/events/helen-import-day-2024-pre-meet-helen-ga
DTSTART;TZID=Pacific/Midway:20240802T160000
DTEND;TZID=Pacific/Midway:20240802T200000
CATEGORIES:car, show
LOCATION:663 Edelweiss Strasse
WEBSITE:https://helenimportday.com/
URL:https://helenimportday.com/
CONTACT:helenimportday@gmail.com
ORGANIZER:Helen Import Day
ATTACH;FMTTYPE="image/jpeg":http://storage.ning.com/topology/rest/1.0/
 file/get/967746048?profile=original
ATTENDEE;ROLE=REQ-PARTICIPANT;PARTSTAT=ACCEPTED;RSVP=TRUE;CN="Michael 
 Thies":https://www.southeastwheelsevents.com/profile/MichaelThies
END:VEVENT
END:VCALENDAR
