BEGIN:VCALENDAR
PRODID:NingEventWidget-v1
VERSION:2.0
METHOD:PUBLISH
BEGIN:VTIMEZONE
TZID:Pacific/Midway
X-LIC-LOCATION:Pacific/Midway
BEGIN:STANDARD
TZOFFSETFROM:-1100
TZOFFSETTO:-1100
TZNAME:SST
DTSTART:19700101T000000
END:STANDARD
END:VTIMEZONE
BEGIN:VEVENT
UID:5072275:Event:1062438
DTSTAMP:20260423T223251Z
SUMMARY:Hellbender Bike Night at Atkins Park Restaurant - Atlanta,GA
DESCRIPTION:Come out to Atkins Park for Hellbender's Bike Night. You w
 ill have a chance to Register To Win a Harley-Davidson Motorcycle! We 
 will have a bike night at Atkins Park every second Wednesday of the mo
 nth!  If you have any questions, please call 770-919-0000 or email us 
 at marketing@hellbenderhd.com\n\nFor more information visit https://ww
 w.southeastwheelsevents.com/events/hellbender-bike-night-at-atkins-par
 k-restaurant-atlanta-ga-2
DTSTART;TZID=Pacific/Midway:20170913T190000
DTEND;TZID=Pacific/Midway:20170913T220000
CATEGORIES:bike, night
LOCATION:Atkins Park Restaurant
WEBSITE:
URL:
CONTACT:770-919-0000
ORGANIZER;CN="Hellbender Harley-Davidson":https://www.southeastwheelse
 vents.com/profile/LaurenHether
ATTACH;FMTTYPE="image/jpeg":http://storage.ning.com/topology/rest/1.0/
 file/get/967750273?profile=original
ATTENDEE;ROLE=REQ-PARTICIPANT;PARTSTAT=ACCEPTED;RSVP=TRUE;CN="Hellbend
 er Harley-Davidson":https://www.southeastwheelsevents.com/profile/Laur
 enHether
END:VEVENT
END:VCALENDAR
