BEGIN:VCALENDAR
PRODID:NingEventWidget-v1
VERSION:2.0
METHOD:PUBLISH
BEGIN:VTIMEZONE
TZID:Pacific/Midway
X-LIC-LOCATION:Pacific/Midway
BEGIN:STANDARD
TZOFFSETFROM:-1100
TZOFFSETTO:-1100
TZNAME:SST
DTSTART:19700101T000000
END:STANDARD
END:VTIMEZONE
BEGIN:VEVENT
UID:5072275:Event:670635
DTSTAMP:20260422T073745Z
SUMMARY:Helen Keller Car Show -Tuscumbia AL
DESCRIPTION:\r\n\n\nFor more information visit https://www.southeastwh
 eelsevents.com/events/hellen-keller-car-show-main-street-tuscumbia-al-
 35674
DTSTART;TZID=Pacific/Midway:20210626T080000
DTEND;TZID=Pacific/Midway:20210626T140000
CATEGORIES:car-show, charity
LOCATION:Keller Festival
WEBSITE:http://shoalscarandtruckclub.com/
URL:http://shoalscarandtruckclub.com/
CONTACT:256-381-3536
ORGANIZER:Shoals Car and Truck Club
ATTACH;FMTTYPE="image/jpeg":http://storage.ning.com/topology/rest/1.0/
 file/get/967640712?profile=original
ATTENDEE;ROLE=REQ-PARTICIPANT;PARTSTAT=ACCEPTED;RSVP=TRUE;CN="Terry L.
  Mashburn":https://www.southeastwheelsevents.com/profile/TerryLMashbur
 n
END:VEVENT
END:VCALENDAR
