BEGIN:VCALENDAR
PRODID:NingEventWidget-v1
VERSION:2.0
METHOD:PUBLISH
BEGIN:VTIMEZONE
TZID:Pacific/Midway
X-LIC-LOCATION:Pacific/Midway
BEGIN:STANDARD
TZOFFSETFROM:-1100
TZOFFSETTO:-1100
TZNAME:SST
DTSTART:19700101T000000
END:STANDARD
END:VTIMEZONE
BEGIN:VEVENT
UID:5072275:Event:591100
DTSTAMP:20260423T222244Z
SUMMARY:*HELP A CHILD SHINE*
DESCRIPTION:HELP A CHILD SHINE\n**Car * Truck * Bike ** Show**\nRat Ro
 ds, Open Classics, Hot Rods, Muscle Cars, Motorcycles, Sports Cars, Lo
 w Riders and 4x4 Trucks!!!\nTrophies, Vendors, 50/50, Raffles, Bake Sa
 le, and Auction!\n \nSaturday, November 10, 2012\n \n“ALL” Proce
 eds go to Newton, Rockdale, and Walton County C.A.S.A.\nCourt Appointe
 d Special Advocates for Abused and Neglected Children\nNewton, Rockdal
 e, & Walton Co C.A.S.A. is a 501c3, Non Profit Guardian ad Litem Progr
 am that helps Abused and Neglected Children Locally. “CASA is an org
 anization of volunteer advocates who stand up for local abused and neg
 lected children to help find safe, permanent homes, and provide them w
 ith the clothing and necessities they need to move on.”\n \nRegistr
 ation: 10:00AM – 12:30PM\nEntry Fee $10.00\n \n          
                                    
           \nEvent Location & Hosted By:\nFive O’Clock Spo
 rts Bar & Grill\n7189 Turner Lake Rd, Covington Ga\nK- Mart/ Ingles Sh
 opping Center\n \nAll Cars, Bikes & Trucks\nWelcome & Needed!\n    
                 Info: Call Wanda 678-333-6551\n\nFor more info
 rmation visit https://www.southeastwheelsevents.com/events/help-a-chil
 d-shine
DTSTART;TZID=Pacific/Midway:20121101T000000
DTEND;TZID=Pacific/Midway:20121101T235900
CATEGORIES:charity, event, for, "c.a.s.a.", -, advocates, abused, and,
  neglected, children
LOCATION:Five'0Clock Sports Bar & Grill - K-Mart Parking Lot
WEBSITE:
URL:
CONTACT:
ORGANIZER;CN="Donna Herndon":https://www.southeastwheelsevents.com/pro
 file/DonnaHerndon
ATTACH;FMTTYPE="image/jpeg":http://storage.ning.com/topology/rest/1.0/
 file/get/967627124?profile=original
ATTENDEE;ROLE=REQ-PARTICIPANT;PARTSTAT=ACCEPTED;RSVP=TRUE;CN="Donna He
 rndon":https://www.southeastwheelsevents.com/profile/DonnaHerndon
END:VEVENT
END:VCALENDAR
