BEGIN:VCALENDAR
PRODID:NingEventWidget-v1
VERSION:2.0
METHOD:PUBLISH
BEGIN:VTIMEZONE
TZID:Pacific/Midway
X-LIC-LOCATION:Pacific/Midway
BEGIN:STANDARD
TZOFFSETFROM:-1100
TZOFFSETTO:-1100
TZNAME:SST
DTSTART:19700101T000000
END:STANDARD
END:VTIMEZONE
BEGIN:VEVENT
UID:5072275:Event:170539
DTSTAMP:20260425T084229Z
SUMMARY:Hemingway BBQ & Shag Festival Car Show -Hemingway. SC
DESCRIPTION:Winyah Cruisers of Georgetown, SC, will host the Annual L.
  C. Stone Memorial Car Show at the Hemingway BBQ Shag Festival in Hemi
 ngway, SC.\n\n .\nContact Donald (Woody) O'Quinn at 843-546-2954 or e
 mail oleane@sccctv.net.\n \n\nFor more information visit https://www.
 southeastwheelsevents.com/events/hemingway-bbq-shag-festival
DTSTART;TZID=Pacific/Midway:20170408T090000
DTEND;TZID=Pacific/Midway:20170408T150000
CATEGORIES:car, show
LOCATION:Hemingway, SC
WEBSITE:
URL:
CONTACT:843-992-3497 Mike
ORGANIZER:Winyah Cruisers
ATTACH;FMTTYPE="image/jpeg":
ATTENDEE;ROLE=REQ-PARTICIPANT;PARTSTAT=ACCEPTED;RSVP=TRUE;CN="Donald M
 . O'Quinn":https://www.southeastwheelsevents.com/profile/DonaldMOQuinn
ATTENDEE;ROLE=REQ-PARTICIPANT;PARTSTAT=ACCEPTED;RSVP=TRUE;CN="Chuck Aa
 ron":https://www.southeastwheelsevents.com/profile/ChuckAaron886
END:VEVENT
END:VCALENDAR
