BEGIN:VCALENDAR
PRODID:NingEventWidget-v1
VERSION:2.0
METHOD:PUBLISH
BEGIN:VTIMEZONE
TZID:Pacific/Midway
X-LIC-LOCATION:Pacific/Midway
BEGIN:STANDARD
TZOFFSETFROM:-1100
TZOFFSETTO:-1100
TZNAME:SST
DTSTART:19700101T000000
END:STANDARD
END:VTIMEZONE
BEGIN:VEVENT
UID:5072275:Event:1012532
DTSTAMP:20260423T215949Z
SUMMARY:Hershey Fall Meet Antique Automobile Club of America Hershey P
 A
DESCRIPTION:The Eastern Division AACA National Fall Meet takes place e
 ach year during the 1st full week in October.  The Hershey Region beg
 an hosting the show in 1955 and has done so each year since then.  \n
 The meet is located in beautiful Hershey, PA on the grounds and parkin
 g lots surrounding Hersheypark and The Giant Center.  Hershey is cons
 idered one of the largest antique automobile shows and flea markets in
  the United States. \nIt consists of over 9,000 flea market spaces, o
 ver 1,000 car corral spaces, and approximately 1,500 show cars.  Each
  year the show attracts visitors from all over the United States and m
 any countries throughout the world.  Some of the most unusual cars an
 d parts can be found at Hershey.  If you love antique cars, Hershey i
 s the place to be.\n\nFor more information visit https://www.southeast
 wheelsevents.com/events/hershey-fall-meet-antique-automobile-club-of-a
 merica-hershey-pa
DTSTART;TZID=Pacific/Midway:20161005T000000
DTEND;TZID=Pacific/Midway:20161008T235900
CATEGORIES:flea, market, and, show
LOCATION:Giant Center, Hershey PA
WEBSITE:http://hersheyaaca.org
URL:http://hersheyaaca.org
CONTACT:Hershey Region AACA
ORGANIZER;CN="Pamela Hirschhorn":https://www.southeastwheelsevents.com
 /profile/PamelaHirschhorn
ATTACH;FMTTYPE="image/jpeg":http://storage.ning.com/topology/rest/1.0/
 file/get/967711879?profile=original
ATTENDEE;ROLE=REQ-PARTICIPANT;PARTSTAT=ACCEPTED;RSVP=TRUE;CN="Pamela H
 irschhorn":https://www.southeastwheelsevents.com/profile/PamelaHirschh
 orn
END:VEVENT
END:VCALENDAR
