BEGIN:VCALENDAR
PRODID:NingEventWidget-v1
VERSION:2.0
METHOD:PUBLISH
BEGIN:VTIMEZONE
TZID:Pacific/Midway
X-LIC-LOCATION:Pacific/Midway
BEGIN:STANDARD
TZOFFSETFROM:-1100
TZOFFSETTO:-1100
TZNAME:SST
DTSTART:19700101T000000
END:STANDARD
END:VTIMEZONE
BEGIN:VEVENT
UID:5072275:Event:1225310
DTSTAMP:20260422T203655Z
SUMMARY:High Octane at Highlands Motoring Festival -Highlands, NC
DESCRIPTION:Casual automotive gathering open to any interesting automo
 bile. No registration or judging. Late arrivals and early departures p
 ermitted.\r\n\r\nFree to the public\r\n\r\n\r\nWHERE\r\nKelsey-Hutchin
 son Park in Highlands, NC\r\n\n\nFor more information visit https://ww
 w.southeastwheelsevents.com/events/high-octane-at-highlands-motoring-f
 estival-highlands-nc
DTSTART;TZID=Pacific/Midway:20220612T080000
DTEND;TZID=Pacific/Midway:20220612T110000
CATEGORIES:cruise-in, car, show, road, rally
LOCATION:Kelsey-Hutchinson Park
WEBSITE:http://highlandsmotoringfestival.com
URL:http://highlandsmotoringfestival.com
CONTACT:Steve Ham: 828-526-0598, Steve 828-337-5014
ORGANIZER:Highlands Motoring Foundation
ATTACH;FMTTYPE="image/jpeg":https://storage.ning.com/topology/rest/1.0
 /file/get/9043248296?profile=original
ATTENDEE;ROLE=REQ-PARTICIPANT;PARTSTAT=ACCEPTED;RSVP=TRUE;CN="Michael 
 Thies":https://www.southeastwheelsevents.com/profile/MichaelThies
END:VEVENT
END:VCALENDAR
