BEGIN:VCALENDAR
PRODID:NingEventWidget-v1
VERSION:2.0
METHOD:PUBLISH
BEGIN:VTIMEZONE
TZID:Pacific/Midway
X-LIC-LOCATION:Pacific/Midway
BEGIN:STANDARD
TZOFFSETFROM:-1100
TZOFFSETTO:-1100
TZNAME:SST
DTSTART:19700101T000000
END:STANDARD
END:VTIMEZONE
BEGIN:VEVENT
UID:5072275:Event:1190763
DTSTAMP:20260424T053132Z
SUMMARY:HIGHLANDS CHURCH 2nd ANNUAL CAR, TRUCK AND MOTORCYCLE SHOW
DESCRIPTION:\n\nFor more information visit https://www.southeastwheels
 events.com/events/highlands-church-2nd-annual-car-truck-and-motorcycle
 -show
DTSTART;TZID=Pacific/Midway:20200613T110000
DTEND;TZID=Pacific/Midway:20200613T140000
CATEGORIES:benefit, show
LOCATION:HIGHLANDS CHURCH
WEBSITE:
URL:
CONTACT:
ORGANIZER:HIGHLANDS CRUISERS CAR CLUB
ATTACH;FMTTYPE="image/jpeg":https://storage.ning.com/topology/rest/1.0
 /file/get/4049581727?profile=original
ATTENDEE;ROLE=REQ-PARTICIPANT;PARTSTAT=TENTATIVE;RSVP=TRUE;CN="Jeffrey
  Rutherford":https://www.southeastwheelsevents.com/profile/JeffreyRuth
 erford866
END:VEVENT
END:VCALENDAR
