BEGIN:VCALENDAR
PRODID:NingEventWidget-v1
VERSION:2.0
METHOD:PUBLISH
BEGIN:VTIMEZONE
TZID:Pacific/Midway
X-LIC-LOCATION:Pacific/Midway
BEGIN:STANDARD
TZOFFSETFROM:-1100
TZOFFSETTO:-1100
TZNAME:SST
DTSTART:19700101T000000
END:STANDARD
END:VTIMEZONE
BEGIN:VEVENT
UID:5072275:Event:1235592
DTSTAMP:20260420T191456Z
SUMMARY:High Octane Racing -Breselton, GA
DESCRIPTION:\r\nHigh Octane Racing is C&O's version of traditional gru
 dge-match oval racing using staggered start boxes to create a chase-st
 yle hot lap race. After 3 laps the racer back to their start box first
  wins! *This is a true ‘run what you brung’ all makes all models o
 val race. This is not a technical timed race. This event is a fun-run 
 event, no classes or brackets…. But lots of seat-time with multiple 
 runs throughout the night! All matches are determined grudge match sty
 le in the paddocks by the drivers & C&O staff or simply by chance of t
 he lineup.  All makes and models (no motorcycles) and all experience l
 evels are welcome to join the fun! This is the perfect opportunity to 
 see what your ride can really do on our historic .375 mile paved oval 
 racetrack!   \n\nFor more information visit https://www.southeastwheel
 sevents.com/events/highoctaneracing
DTSTART;TZID=Pacific/Midway:20230225T130000
DTEND;TZID=Pacific/Midway:20230225T190000
CATEGORIES:car, racing, show, cruise-in, caffeine, high, octane
LOCATION:C and O Lanier Raceplex
WEBSITE:https://caffeineandoctane.com/
URL:https://caffeineandoctane.com/
CONTACT:(404) 551-4454
ORGANIZER:Caffeine and Octane
ATTACH;FMTTYPE="image/jpeg":https://storage.ning.com/topology/rest/1.0
 /file/get/10571899253?profile=original
ATTENDEE;ROLE=REQ-PARTICIPANT;PARTSTAT=ACCEPTED;RSVP=TRUE;CN="Michael 
 Thies":https://www.southeastwheelsevents.com/profile/MichaelThies
ATTENDEE;ROLE=REQ-PARTICIPANT;PARTSTAT=ACCEPTED;RSVP=TRUE;CN="Bobbie M
 enneg":https://www.southeastwheelsevents.com/profile/BobbieMenneg
END:VEVENT
END:VCALENDAR
