BEGIN:VCALENDAR
PRODID:NingEventWidget-v1
VERSION:2.0
METHOD:PUBLISH
BEGIN:VTIMEZONE
TZID:Pacific/Midway
X-LIC-LOCATION:Pacific/Midway
BEGIN:STANDARD
TZOFFSETFROM:-1100
TZOFFSETTO:-1100
TZNAME:SST
DTSTART:19700101T000000
END:STANDARD
END:VTIMEZONE
BEGIN:VEVENT
UID:5072275:Event:1180377
DTSTAMP:20260424T013050Z
SUMMARY:Hilbish Ford 9th Annual Toys for Tots benefit Car Show - Kanna
 polis, Nc
DESCRIPTION:Hilbish  Ford  9th Annual Toys for Tots  benefit  Car 
 Show.\n\nFor more information visit https://www.southeastwheelsevents.
 com/events/hilbish-ford-9th-annual-toys-for-tots-benefit-car-show-kann
 apolis
DTSTART;TZID=Pacific/Midway:20191116T080000
DTEND;TZID=Pacific/Midway:20191116T130000
CATEGORIES:car, show, cruise-in
LOCATION:Hilbish Ford,
WEBSITE:https://www.google.com/maps?q=2600+s+cannon+blvd+kannapolis+nc
 &amp;amp;um=1&amp;amp;ie=UTF-8&amp;amp;sa=X&amp;amp;ved=0ahUKEwjr8fjB1
 OLlAhVPWX0KHSH_BuwQ_AUIEigB
URL:https://www.google.com/maps?q=2600+s+cannon+blvd+kannapolis+nc&amp
 ;amp;um=1&amp;amp;ie=UTF-8&amp;amp;sa=X&amp;amp;ved=0ahUKEwjr8fjB1OLlA
 hVPWX0KHSH_BuwQ_AUIEigB
CONTACT:(704) 938-3131
ORGANIZER:Mike
ATTACH;FMTTYPE="image/jpeg":https://storage.ning.com/topology/rest/1.0
 /file/get/3700548547?profile=original
ATTENDEE;ROLE=REQ-PARTICIPANT;PARTSTAT=ACCEPTED;RSVP=TRUE;CN="Anthony 
 Hopkins":https://www.southeastwheelsevents.com/profile/AnthonyHopkins
END:VEVENT
END:VCALENDAR
