BEGIN:VCALENDAR
PRODID:NingEventWidget-v1
VERSION:2.0
METHOD:PUBLISH
BEGIN:VTIMEZONE
TZID:Pacific/Midway
X-LIC-LOCATION:Pacific/Midway
BEGIN:STANDARD
TZOFFSETFROM:-1100
TZOFFSETTO:-1100
TZNAME:SST
DTSTART:19700101T000000
END:STANDARD
END:VTIMEZONE
BEGIN:VEVENT
UID:5072275:Event:1098174
DTSTAMP:20260419T224015Z
SUMMARY:Hillcrest Baptist Church Car Show - Williamston, Sc
DESCRIPTION:Hillcrest Baptist Church Car Show, 1300 Anderson Drive.\n\
 nFor more information visit https://www.southeastwheelsevents.com/even
 ts/hillcrest-baptist-church-car-show-williamston-sc-1
DTSTART;TZID=Pacific/Midway:20180915T100000
DTEND;TZID=Pacific/Midway:20180915T150000
CATEGORIES:car, show, cruise, in
LOCATION:Hillcrest Baptist Church,
WEBSITE:https://www.google.co.in/maps/place/Hillcrest+Baptist+Church/@
 34.6155093,-82.501025,17z/data=!4m13!1m7!3m6!1s0x8858159363228857:0xa8
 5b4c8178cca36!2s1300+Anderson+Dr,+Williamston,+SC+29697,+USA!3b1!8m2!3
 d34.6155093!4d-82.4988363!3m4!1s0x885815937c8215c5:0x2b78b6893143495a!
 8m2!3d34.61565!4d-82.499107
URL:https://www.google.co.in/maps/place/Hillcrest+Baptist+Church/@34.6
 155093,-82.501025,17z/data=!4m13!1m7!3m6!1s0x8858159363228857:0xa85b4c
 8178cca36!2s1300+Anderson+Dr,+Williamston,+SC+29697,+USA!3b1!8m2!3d34.
 6155093!4d-82.4988363!3m4!1s0x885815937c8215c5:0x2b78b6893143495a!8m2!
 3d34.61565!4d-82.499107
CONTACT:(864) 979-4709 (RD 9-22)
ORGANIZER:
ATTACH;FMTTYPE="image/jpeg":http://storage.ning.com/topology/rest/1.0/
 file/get/967791946?profile=original
ATTENDEE;ROLE=REQ-PARTICIPANT;PARTSTAT=ACCEPTED;RSVP=TRUE;CN="Anthony 
 Hopkins":https://www.southeastwheelsevents.com/profile/AnthonyHopkins
END:VEVENT
END:VCALENDAR
