BEGIN:VCALENDAR
PRODID:NingEventWidget-v1
VERSION:2.0
METHOD:PUBLISH
BEGIN:VTIMEZONE
TZID:Pacific/Midway
X-LIC-LOCATION:Pacific/Midway
BEGIN:STANDARD
TZOFFSETFROM:-1100
TZOFFSETTO:-1100
TZNAME:SST
DTSTART:19700101T000000
END:STANDARD
END:VTIMEZONE
BEGIN:VEVENT
UID:5072275:Event:481878
DTSTAMP:20260423T153501Z
SUMMARY:Historic Downtown Buford Car, Truck and Bike Show in the Squar
 e -Buford, GA
DESCRIPTION:We are please to announce we are having a car show in the 
 Square again. The last one was a blast and I assure this one will be e
 ven better. Main Street Merchants lead by Mary Mays of CLeeann Concept
 s has gathered many gifts for you owners to give out throught the day.
  There will be vendors and food available. Think I may spoke up some c
 hicken or  something like that. Great music tons of giveaways a beaut
 iful setting and Mary may even sing for us. Trophies well how about 30
  and non under 2 ft. We will have Best of show and many Best of catego
 ries incl. Merchants Choice and top 20. Come on out we would love to s
 ee you. Cars and trucks 20 and bikes 10 there will be Best Truck and B
 est Bike categories as well. This  is a non profit event sponsored b
 y the BBA.\n\nFor more information visit https://www.southeastwheelsev
 ents.com/events/historic-downtown-buford-car-truck-and-bike-show-in-th
 e-square
DTSTART;TZID=Pacific/Midway:20120414T100000
DTEND;TZID=Pacific/Midway:20120414T150000
CATEGORIES:historic, downtown, buford, car, truck, and, bike, show
LOCATION:ON THE Square in Downtown Buford
WEBSITE:
URL:
CONTACT:770.630.8097
ORGANIZER;CN="Gene S Kerley":https://www.southeastwheelsevents.com/pro
 file/GeneSKerley
ATTACH;FMTTYPE="image/jpeg":
ATTENDEE;ROLE=REQ-PARTICIPANT;PARTSTAT=ACCEPTED;RSVP=TRUE;CN="Bill mus
 arra":https://www.southeastwheelsevents.com/profile/billmusarra
ATTENDEE;ROLE=REQ-PARTICIPANT;PARTSTAT=ACCEPTED;RSVP=TRUE;CN="Gene S K
 erley":https://www.southeastwheelsevents.com/profile/GeneSKerley
ATTENDEE;ROLE=REQ-PARTICIPANT;PARTSTAT=ACCEPTED;RSVP=TRUE;CN="Gary Kei
 th Moon":https://www.southeastwheelsevents.com/profile/GaryKeithMoon
ATTENDEE;ROLE=REQ-PARTICIPANT;PARTSTAT=ACCEPTED;RSVP=TRUE;CN="GREG CHE
 EK":https://www.southeastwheelsevents.com/profile/GREGCHEEK
ATTENDEE;ROLE=REQ-PARTICIPANT;PARTSTAT=ACCEPTED;RSVP=TRUE;CN="Rodney W
 allin":https://www.southeastwheelsevents.com/profile/Rodneywallin
ATTENDEE;ROLE=REQ-PARTICIPANT;PARTSTAT=TENTATIVE;RSVP=TRUE;CN="Tommy M
 orris":https://www.southeastwheelsevents.com/profile/TommyMorris
ATTENDEE;ROLE=REQ-PARTICIPANT;PARTSTAT=TENTATIVE;RSVP=TRUE;CN="Al Will
 iams":https://www.southeastwheelsevents.com/profile/AlWilliams
ATTENDEE;ROLE=REQ-PARTICIPANT;PARTSTAT=TENTATIVE;RSVP=TRUE;CN=Jeff:htt
 ps://www.southeastwheelsevents.com/profile/Jeff
END:VEVENT
END:VCALENDAR
