BEGIN:VCALENDAR
PRODID:NingEventWidget-v1
VERSION:2.0
METHOD:PUBLISH
BEGIN:VTIMEZONE
TZID:Pacific/Midway
X-LIC-LOCATION:Pacific/Midway
BEGIN:STANDARD
TZOFFSETFROM:-1100
TZOFFSETTO:-1100
TZNAME:SST
DTSTART:19700101T000000
END:STANDARD
END:VTIMEZONE
BEGIN:VEVENT
UID:5072275:Event:228144
DTSTAMP:20260424T234201Z
SUMMARY:Historic Sportscar Racing Mitty Speedfest
DESCRIPTION:The Mitty Challenge will again offer an incredible variety
  of historically significant race cars - both on display in the paddoc
 k and racing once again at Road Atlanta. Sanctioned by the Historic Sp
 ortscar Racing association, the Mitty will include IMSA Camel GT, SCCA
  Trans-Am, Can-Am, Formula One, CART and even NASCAR Winston Cup cars.
  For more information visit www.hsrrace.com.\n\nWeekend\n$45\n\nFriday
  Only\n$25\n\nSaturday Only\n$25\n\nSunday Only\n$25\n\nInfield Car/Tr
 uck Parking\n$10\n\nMotorcycle Parking\n$5\n\nCamping\n$25\n\nOff Road
  Vehicle\n$50\n\n\n\n \n\nFor more information visit https://www.sout
 heastwheelsevents.com/events/historic-sportscar-racing-1
DTSTART;TZID=Pacific/Midway:20110429T180000
DTEND;TZID=Pacific/Midway:20110501T190000
CATEGORIES:road, race
LOCATION:Road Atlanta
WEBSITE:http://www.roadatlanta.com/event_detail.lasso?-Token.eventfile
 =ev_mitty.lasso&-Token.id=3
URL:http://www.roadatlanta.com/event_detail.lasso?-Token.eventfile=ev_
 mitty.lasso&-Token.id=3
CONTACT:
ORGANIZER:www.themitty.com
ATTACH;FMTTYPE="image/jpeg":http://storage.ning.com/topology/rest/1.0/
 file/get/967592279?profile=original
ATTENDEE;ROLE=REQ-PARTICIPANT;PARTSTAT=ACCEPTED;RSVP=TRUE;CN="Greg Fos
 ter":https://www.southeastwheelsevents.com/profile/GregFoster
ATTENDEE;ROLE=REQ-PARTICIPANT;PARTSTAT=ACCEPTED;RSVP=TRUE;CN="Doctor S
 tig":https://www.southeastwheelsevents.com/profile/DoctorStig
END:VEVENT
END:VCALENDAR
