BEGIN:VCALENDAR
PRODID:NingEventWidget-v1
VERSION:2.0
METHOD:PUBLISH
BEGIN:VTIMEZONE
TZID:Pacific/Midway
X-LIC-LOCATION:Pacific/Midway
BEGIN:STANDARD
TZOFFSETFROM:-1100
TZOFFSETTO:-1100
TZNAME:SST
DTSTART:19700101T000000
END:STANDARD
END:VTIMEZONE
BEGIN:VEVENT
UID:5072275:Event:1275081
DTSTAMP:20260424T015915Z
SUMMARY:Historic Sportscar Racing Mitty Speedfest -Braselton, Ga
DESCRIPTION:The Mitty is recognized as one of North America’s most p
 restigious vintage racing events. Sanctioned by Historic Sportscar Rac
 ing (HSR), The Mitty attracts a diverse lineup of legendary machines f
 rom all eras and brings them back on track just as they raced in their
  glory years. It’s like a living, breathing museum of racing history
  unleashed on the famous Road Atlanta circuit. Whether your interest i
 s Can-Am, F1, Trans-Am, Camel GTP, or even NASCAR- you’ll find a gre
 at lineup of cars that is sure to bring back memories. \r\nVintage ra
 cing’s promise is to resurrect the past glories of sports car racing
  for a modern audience, and no event does that better than the Classic
  Motorsports Mitty.\r\nOff the track, the infield will be buzzing with
  activity. Spectators will enjoy car corrals, vendors and an expansive
  hospitality tent, all while surrounded by the buzzing excitement of H
 SR-sanctioned historic racing activities that will see over 300 cars c
 ompeting throughout the weekend.\r\n\n\nFor more information visit htt
 ps://www.southeastwheelsevents.com/events/historic-sportscar-racing-mi
 tty-speedfest-braselton-ga-1
DTSTART;TZID=Pacific/Midway:20260423T000000
DTEND;TZID=Pacific/Midway:20260426T235900
CATEGORIES:race, event, festival
LOCATION:Road Atlanta
WEBSITE:https://www.roadatlanta.com/hsr-mitty
URL:https://www.roadatlanta.com/hsr-mitty
CONTACT:727-373-1340
ORGANIZER:Historic Sportscar Racing
ATTACH;FMTTYPE="image/jpeg":http://storage.ning.com/topology/rest/1.0/
 file/get/967568017?profile=original
ATTENDEE;ROLE=REQ-PARTICIPANT;PARTSTAT=ACCEPTED;RSVP=TRUE;CN="Chuck Aa
 ron":https://www.southeastwheelsevents.com/profile/ChuckAaron886
END:VEVENT
END:VCALENDAR
