BEGIN:VCALENDAR
PRODID:NingEventWidget-v1
VERSION:2.0
METHOD:PUBLISH
BEGIN:VTIMEZONE
TZID:Pacific/Midway
X-LIC-LOCATION:Pacific/Midway
BEGIN:STANDARD
TZOFFSETFROM:-1100
TZOFFSETTO:-1100
TZNAME:SST
DTSTART:19700101T000000
END:STANDARD
END:VTIMEZONE
BEGIN:VEVENT
UID:5072275:Event:1180459
DTSTAMP:20260424T012810Z
SUMMARY:Hobo's and Hot Rods Car Show - Callahan, Fl
DESCRIPTION:Hobo's and Hot Rods Car Show at Cochrane's Collision Cente
 r.\n\nFor more information visit https://www.southeastwheelsevents.com
 /events/hobo-s-and-hot-rods-car-show-callahan-fl-1
DTSTART;TZID=Pacific/Midway:20191116T100000
DTEND;TZID=Pacific/Midway:20191116T150000
CATEGORIES:car, show, cruise-in
LOCATION:Cochrane's Collision Center,
WEBSITE:https://www.google.com/maps/place/Cochrane&#039;s+Collision+Ce
 nter/@39.4590069,-116.1425307,4z/data=!4m8!1m2!2m1!1sCochrane&#039;s+C
 ollision+Center!3m4!1s0x88e5a190acbd2c31:0x8a32d6ebd66e9b88!8m2!3d30.5
 6479!4d-81.833751
URL:https://www.google.com/maps/place/Cochrane&#039;s+Collision+Center
 /@39.4590069,-116.1425307,4z/data=!4m8!1m2!2m1!1sCochrane&#039;s+Colli
 sion+Center!3m4!1s0x88e5a190acbd2c31:0x8a32d6ebd66e9b88!8m2!3d30.56479
 !4d-81.833751
CONTACT:(904) 654-2918
ORGANIZER:Greg O 'Quinn
ATTACH;FMTTYPE="image/jpeg":https://storage.ning.com/topology/rest/1.0
 /file/get/3704029724?profile=original
ATTENDEE;ROLE=REQ-PARTICIPANT;PARTSTAT=ACCEPTED;RSVP=TRUE;CN="Anthony 
 Hopkins":https://www.southeastwheelsevents.com/profile/AnthonyHopkins
END:VEVENT
END:VCALENDAR
