BEGIN:VCALENDAR
PRODID:NingEventWidget-v1
VERSION:2.0
METHOD:PUBLISH
BEGIN:VTIMEZONE
TZID:Pacific/Midway
X-LIC-LOCATION:Pacific/Midway
BEGIN:STANDARD
TZOFFSETFROM:-1100
TZOFFSETTO:-1100
TZNAME:SST
DTSTART:19700101T000000
END:STANDARD
END:VTIMEZONE
BEGIN:VEVENT
UID:5072275:Event:1180442
DTSTAMP:20260424T012320Z
SUMMARY:HOBOS & HOT RODS
DESCRIPTION:hhHOBOS & HOT RODS, at Cochrans Collision Center\n\nFor mo
 re information visit https://www.southeastwheelsevents.com/events/hobo
 s-hot-rods
DTSTART;TZID=Pacific/Midway:20191116T100000
DTEND;TZID=Pacific/Midway:20191116T150000
CATEGORIES:car, show
LOCATION:Cochrans Collision Center
WEBSITE:
URL:
CONTACT:9014-654-2918
ORGANIZER:Greg O'Quinn
ATTACH;FMTTYPE="image/jpeg":https://storage.ning.com/topology/rest/1.0
 /file/get/688488836?profile=original
ATTENDEE;ROLE=REQ-PARTICIPANT;PARTSTAT=TENTATIVE;RSVP=TRUE;CN="Jeffrey
  Rutherford":https://www.southeastwheelsevents.com/profile/JeffreyRuth
 erford866
END:VEVENT
END:VCALENDAR
