BEGIN:VCALENDAR
PRODID:NingEventWidget-v1
VERSION:2.0
METHOD:PUBLISH
BEGIN:VTIMEZONE
TZID:Pacific/Midway
X-LIC-LOCATION:Pacific/Midway
BEGIN:STANDARD
TZOFFSETFROM:-1100
TZOFFSETTO:-1100
TZNAME:SST
DTSTART:19700101T000000
END:STANDARD
END:VTIMEZONE
BEGIN:VEVENT
UID:5072275:Event:82112
DTSTAMP:20260423T161822Z
SUMMARY:Hog Happnin' Annual BBQ Cook Off Car Show -Shelby , NC
DESCRIPTION:Hog Happninâ€™ 22nd Annual BBQ Cook Off Car Show N Sound O
 ff   11-06-10 800AM to 400PM Cleveland County Fairgrounds 1751 E. Mari
 on St. Shelby, NC 28152 Corn hole Tournament  Kidz Zone, Arts N Crafts
   BBQ Meals & Carry-out Tractor Pull Friday Night and Saturday Night  
 Car ShowÂ  $25.00 Entry Fee\n\nWhat time does the show start?Â Gates o
 pen at 8am for registration. The show lasts until the awards ceremony 
 at 3:30pm.\nWhen does registration begin?Â Pre-registration is open on
  line,Â click here. At-the-gate registration begins at 8am Saturday.\n
 What awards will be given?Â The Car Show will present Top 50 Awards. T
 he Cycle Show has the Top 20.\nHow about the judging?Â Judging will be
  done by the participants. At registration, participants will be given
  a ballot and may vote for up to 10.\nWhat time are the awards given?Â
  Awards are scheduled for 3:30 pm with the 50/50 drawing immediately f
 ollowing. BBQ awards are at 4pm.\nWhat does it cost to enter?Â Pre-reg
 istration is $20.Â Click here to pre-register. At-the-gate registratio
 n is $25.\nWhere is the show held?Â TheÂ Shelby City Park, 850 W. Sumt
 er St, Shelby, NC 28150.\nWho gets the benefits from the day's events?
 Â The Car Show supports Relay for Life and Children's Homes of Clevela
 nd County, but Hog Happnin' also supports American Red Cross and Victo
 ry Junction Gang through the Kiwanis Club.\nCan we park with our frien
 ds?Â If you want to park together, please come in the gate together.\n
 Can we set up tents?Â Chairs yes, but sorry, no tents.\nCan I trailer 
 my show vehicle?Â Yes, we will direct you to the trailer parking area 
 outside the gate where you can unload and park a trailer then drive in
  the gate.\n\n\nFor more information visit https://www.southeastwheels
 events.com/events/hog-happnin-19th-annual-bbq
DTSTART;TZID=Pacific/Midway:20131102T080000
DTEND;TZID=Pacific/Midway:20131102T160000
CATEGORIES:car, show
LOCATION:Shelby City Park
WEBSITE:http://hoghappnin.com/carshow.htm
URL:http://hoghappnin.com/carshow.htm
CONTACT:803 320 3193
ORGANIZER:Hog Happenin'
ATTACH;FMTTYPE="image/jpeg":http://storage.ning.com/topology/rest/1.0/
 file/get/967585173?profile=original
ATTENDEE;ROLE=REQ-PARTICIPANT;PARTSTAT=ACCEPTED;RSVP=TRUE;CN="Tour Del
 ux Rally":https://www.southeastwheelsevents.com/profile/Steve
END:VEVENT
END:VCALENDAR
