BEGIN:VCALENDAR
PRODID:NingEventWidget-v1
VERSION:2.0
METHOD:PUBLISH
BEGIN:VTIMEZONE
TZID:Pacific/Midway
X-LIC-LOCATION:Pacific/Midway
BEGIN:STANDARD
TZOFFSETFROM:-1100
TZOFFSETTO:-1100
TZNAME:SST
DTSTART:19700101T000000
END:STANDARD
END:VTIMEZONE
BEGIN:VEVENT
UID:5072275:Event:1025192
DTSTAMP:20260423T143707Z
SUMMARY:HOG New Bern Breakfast Ride
DESCRIPTION:HOG New Bern Breakfast Ride to VFW Post 2514, 3850 Butler 
 Road, New Bern, NC. Ride starts at 9.00 am and ends by 11.00 am.\n\nFo
 r more information visit https://www.southeastwheelsevents.com/events/
 hog-new-bern-breakfast-ride
DTSTART;TZID=Pacific/Midway:20161218T090000
DTEND;TZID=Pacific/Midway:20161218T110000
CATEGORIES:motorcycles, "clubs/shows/cruises"
LOCATION:VFW Post 2514
WEBSITE:http://www.newbernhog.com/calendar-of-events.html
URL:http://www.newbernhog.com/calendar-of-events.html
CONTACT:
ORGANIZER:New Bern HOG
ATTACH;FMTTYPE="image/jpeg":http://storage.ning.com/topology/rest/1.0/
 file/get/967721031?profile=original
ATTENDEE;ROLE=REQ-PARTICIPANT;PARTSTAT=ACCEPTED;RSVP=TRUE;CN="Chris go
 sney":https://www.southeastwheelsevents.com/profile/Chrisgosney
END:VEVENT
END:VCALENDAR
