BEGIN:VCALENDAR
PRODID:NingEventWidget-v1
VERSION:2.0
METHOD:PUBLISH
BEGIN:VTIMEZONE
TZID:Pacific/Midway
X-LIC-LOCATION:Pacific/Midway
BEGIN:STANDARD
TZOFFSETFROM:-1100
TZOFFSETTO:-1100
TZNAME:SST
DTSTART:19700101T000000
END:STANDARD
END:VTIMEZONE
BEGIN:VEVENT
UID:5072275:Event:184897
DTSTAMP:20260422T233843Z
SUMMARY:Hogs N Hot Rides Tour Stop #2
DESCRIPTION:Hogs N Hot Rides Tour Stop #2\n\nQueen City Car Wars N BBQ
  Cook Off Contest\n\nCharlotte NC\n\n(check out web site for more info
  www.kossmotorsports.com)\n\nSEPTEMBER 10TH & 11TH 2011$10000.00+ IN C
 ASH PAY OUTS\n\n$3200 LARGEST CLUB PARTICIPATION & 6 FT. TROPHY\n\n$10
 00 SECOUND LARGEST CLUB PARTICIPATION & 4 FT. TROPHY\n\n4 FT. TROPHY P
 ER CATEGORY NO RESTRICTION APPLY\n\n$200 CASH PAYOUT 5 CAR MINIMUM PER
  CATEGORY\n\nBEST CORVETTE ALL\n\nBEST CAMARO ALL\n\nBEST MUSTANG ALL\
 n\nBEST STREET ROD CAR ALL\n\nBEST MOPAR ALL\n\nBEST CHEVY ALL\n\nBEST
  FORD ALL\n\nBEST TRI-5 ALL\n\nBEST CLASSIC MODERN MOD ALL\n\nBEST EUR
 OPEAN ALL\n\nBEST SPORT COMPACT\n\nBEST NOVA & CHEVELLE ALL\n\nBEST AM
 ERICAN MOTORS ALL\n\nBEST SURVIVOR 79 & OLDER ALL\n\nBEST 4 X 4 ALL\n\
 nBEST CLASSIC TRUCK 79 & OLDER\n\nBEST MODERN TRUCK 80 TO PRESENT\n\nB
 EST MINI TRUCK ALL\n\nBEST SMALL SIZE TRUCK ALL\n\nBEST IMPORT\n\nBEST
  LOW RIDER ALL\n\nBEST MOTORCYCLE ALL\n\nBEST RAT ROD\n\nADDITIONAL AW
 ARDS & CASH PRIZES\n\n3 FT TROPHY & $100 CASH PAY OUT PER CATEGORY\n\n
 BEST INTERIOR\n\nBEST ENGINE\n\nBEST DISPLAY\n\nBEST IN CAR ENTERTAINM
 ENT I.C.E.\n\nBEST FEMALE VEHICLE(Must show Registration or Title)\n\n
 BEST UGLY BEST NEON DISPLAY\n\nLOUDEST DB OVERALL\n\nCHARLOTTE CENTER 
 CITY PARTNERS PICK\n\n1 SPONSORS PICK\n\nKMS PICK\n\nPEOPLE CHOICE\n\n
 All Shows covered on KMS Car Show Connection TV\n\n5 TIMES PT SHOW (ON
 LY 4 THIS YEAR)\n\nCar Show 125+ Classes & True SPL Sound Off\n\n28”
  Tall First Place Trophies In each Class\n\nCALLING ALL ANTIQUES, CLAS
 SIC, STREET RODS, TRUCKS, MOTORCYCLES, IMPORTS, SPORT COMPACTS\n\n$30.
 00 CAR SHOW ENTRY FEE INCLUDES T-SHIRT TO FIRST 50 PRE REGISTER\n\n$15
 .00 DISPLAY ONLY FEE (NO CHANCE FOR CASH PAYOUTS)\n\nFREE PUBLIC ADMIS
 SION\n\nFOOD EATING CONTEST\n\nDB DRAG SPL STEREO CONTEST\n\nAIR HORN 
 CONTEST\n\nMore Info: www.kossmotorsports.com or call Steve 803-320-31
 93\n\nalways check out web site to make sure the event was not changed
  or canceled\n\nFor more information visit https://www.southeastwheels
 events.com/events/hogs-n-hot-rides-tour-stop-2-1
DTSTART;TZID=Pacific/Midway:20110910T000000
DTEND;TZID=Pacific/Midway:20110911T235900
CATEGORIES:car, show, and, more
LOCATION:charlotte nc
WEBSITE:http://www.kossmotorsports.com    smkoss@comporium.net
URL:http://www.kossmotorsports.com    smkoss@comporium.net
CONTACT:803-320-3193
ORGANIZER;CN="Tour Delux Rally":https://www.southeastwheelsevents.com/
 profile/Steve
ATTACH;FMTTYPE="image/jpeg":
ATTENDEE;ROLE=REQ-PARTICIPANT;PARTSTAT=ACCEPTED;RSVP=TRUE;CN="Tour Del
 ux Rally":https://www.southeastwheelsevents.com/profile/Steve
END:VEVENT
END:VCALENDAR
