BEGIN:VCALENDAR
PRODID:NingEventWidget-v1
VERSION:2.0
METHOD:PUBLISH
BEGIN:VTIMEZONE
TZID:Pacific/Midway
X-LIC-LOCATION:Pacific/Midway
BEGIN:STANDARD
TZOFFSETFROM:-1100
TZOFFSETTO:-1100
TZNAME:SST
DTSTART:19700101T000000
END:STANDARD
END:VTIMEZONE
BEGIN:VEVENT
UID:5072275:Event:1099439
DTSTAMP:20260420T062411Z
SUMMARY:Hokes Bluff Lions Club 14th Annual Car Show - Hokes Bluff, Al
DESCRIPTION:Hokes Bluff Lions Club 14\" Annual Car Show at Hokes Bluff
  City Park.\n\nFor more information visit https://www.southeastwheelse
 vents.com/events/hokes-bluff-lions-club-14-annual-car-show-hokes-bluff
 -al
DTSTART;TZID=Pacific/Midway:20180922T080000
DTEND;TZID=Pacific/Midway:20180922T140000
CATEGORIES:car, show, cruise, in
LOCATION:Hokes Bluff City Park,
WEBSITE:https://www.google.co.in/maps/place/3301+Alford+Bend+Rd,+Hokes
 +Bluff,+AL+35903,+USA/@33.9922532,-85.8677508,17z/data=!3m1!4b1!4m5!3m
 4!1s0x888a46b4f5d763cf:0xf2ddd70678a31a8d!8m2!3d33.9922488!4d-85.86556
 21
URL:https://www.google.co.in/maps/place/3301+Alford+Bend+Rd,+Hokes+Blu
 ff,+AL+35903,+USA/@33.9922532,-85.8677508,17z/data=!3m1!4b1!4m5!3m4!1s
 0x888a46b4f5d763cf:0xf2ddd70678a31a8d!8m2!3d33.9922488!4d-85.8655621
CONTACT:(256) 393-8590, (256) 492-5916
ORGANIZER:Glen Lankford, Donald Jarrells
ATTACH;FMTTYPE="image/jpeg":http://storage.ning.com/topology/rest/1.0/
 file/get/967799222?profile=original
ATTENDEE;ROLE=REQ-PARTICIPANT;PARTSTAT=ACCEPTED;RSVP=TRUE;CN="Anthony 
 Hopkins":https://www.southeastwheelsevents.com/profile/AnthonyHopkins
END:VEVENT
END:VCALENDAR
