BEGIN:VCALENDAR
PRODID:NingEventWidget-v1
VERSION:2.0
METHOD:PUBLISH
BEGIN:VTIMEZONE
TZID:Pacific/Midway
X-LIC-LOCATION:Pacific/Midway
BEGIN:STANDARD
TZOFFSETFROM:-1100
TZOFFSETTO:-1100
TZNAME:SST
DTSTART:19700101T000000
END:STANDARD
END:VTIMEZONE
BEGIN:VEVENT
UID:5072275:Event:983719
DTSTAMP:20260421T025534Z
SUMMARY:Holy Smoke Festival, Car Show and Barbeque Marietta, GA
DESCRIPTION:Holy Smoke Festival, Car Show and Barbeque. Labor Day Sept
 . 5th Johnson Ferry Baptist Church, 955 Johnson Ferry Rd. East Cobb Co
 unty. No registration fee. Donations are greatly appreciated to benefi
 t our two charities, the East Cobb Fellowship of Christian Athletes an
 d the Storehouse Ministries Food Pantry. Trophies awarded for top 3 pl
 aces and Pastor's choice. Restricted to 1986 and older cars and trucks
 , no motorcycles. Registration starts at 9 am and must be registered b
 y 12 noon to be eligible to vote and receive a trophy. Awards at 1:45.
  Family event with vendor booths, silent auction, BBQ, music and an Ar
 my parachute team demonstration. For more info contact Bo Dunn 404-218
 -8834 or bodunn96@gmail.com.\n\nFor more information visit https://www
 .southeastwheelsevents.com/events/holy-smoke-festival-car-show-and-bar
 beque-marietta-ga
DTSTART;TZID=Pacific/Midway:20160905T090000
DTEND;TZID=Pacific/Midway:20160905T140000
CATEGORIES:fundraiser, charity, event
LOCATION:East Cobb County
WEBSITE:http://www.jfmen.org/holysmoke
URL:http://www.jfmen.org/holysmoke
CONTACT:404-218-8834
ORGANIZER:Bo Dunn
ATTACH;FMTTYPE="image/jpeg":http://storage.ning.com/topology/rest/1.0/
 file/get/967704391?profile=original
ATTENDEE;ROLE=REQ-PARTICIPANT;PARTSTAT=ACCEPTED;RSVP=TRUE;CN="Chuck Aa
 ron":https://www.southeastwheelsevents.com/profile/ChuckAaron
ATTENDEE;ROLE=REQ-PARTICIPANT;PARTSTAT=ACCEPTED;RSVP=TRUE;CN="robbie p
 adgett":https://www.southeastwheelsevents.com/profile/robbiepadgett
ATTENDEE;ROLE=REQ-PARTICIPANT;PARTSTAT=ACCEPTED;RSVP=TRUE;CN="Bowman D
 unn":https://www.southeastwheelsevents.com/profile/BowmanDunn
ATTENDEE;ROLE=REQ-PARTICIPANT;PARTSTAT=ACCEPTED;RSVP=TRUE;CN="Mike Wil
 liams":https://www.southeastwheelsevents.com/profile/MikeWilliams
END:VEVENT
END:VCALENDAR
